Workbook
Name Base_case: 'Scenario analysis'!$C$6
Name Best_case: 'Scenario analysis'!$C$5
Name Worst_case: 'Scenario analysis'!$C$7

Sheet DCF
A1: Discounted Cash Flow valuation
I2: Free cash flow to firm (FCFF)
I3: FY24 E | J3: FY25 E | K3: FY26 E | L3: FY27 E | M3: FY28E
B4: Assumptions: | H4: EBIT | I4: ='Income Statement'!I14 -> 7096.037 | J4: ='Income Statement'!J14 -> 9845.2534 | K4: ='Income Statement'!K14 -> 11169.976 | L4: ='Income Statement'!L14 -> 12502.921 | M4: ='Income Statement'!M14 -> 13960.013
C5: Risk Free Rate | D5: 0.07354 | H5: Tax rate | I5: 0.25 | J5: 0.25 | K5: 0.25 | L5: 0.25 | M5: 0.25
C6: Beta | D6: 0.85 | H6: EBIT * (1-Tax rate) | I6: =I4*(1-I5) -> 5322.0277 | J6: =J4*(1-J5) -> 7383.94 | K6: =K4*(1-K5) -> 8377.4821 | L6: =L4*(1-L5) -> 9377.1904 | M6: =M4*(1-M5) -> 10470.01
C7: Equity risk premium | D7: 0.0973 | H7: Add : Depreciation | I7: ='Income Statement'!I13 -> 287.7984 | J7: ='Income Statement'!J13 -> 308.7984 | K7: ='Income Statement'!K13 -> 329.7984 | L7: ='Income Statement'!L13 -> 353.7984 | M7: ='Income Statement'!M13 -> 379.2984
C8: Cost of Equity/CAPM | D8: =D5+D6*(D7) -> 0.156245 | H8: Less : Increase in working capital | I8: ='CashFlow Statement'!I40 -> -614.5378 | J8: ='CashFlow Statement'!J40 -> -88.334055 | K8: ='CashFlow Statement'!K40 -> 301.58465 | L8: ='CashFlow Statement'!L40 -> -127.20556 | M8: ='CashFlow Statement'!M40 -> 111.62604
C9: Cost of Debt | D9: 0.1 | H9: Less : Increase in CAPEX & WIP | I9: =SUM('CashFlow Statement'!I52:I54) -> -128.45012 | J9: =SUM('CashFlow Statement'!J52:J54) -> -351.85407 | K9: =SUM('CashFlow Statement'!K52:K54) -> -403.15907 | L9: =SUM('CashFlow Statement'!L52:L54) -> -428.20407 | M9: =SUM('CashFlow Statement'!M52:M54) -> -505.43157
C10: Tax Rate | D10: 0.25 | H10: Free Cashflow to Firm | I10: =SUM(I6:I9) -> 4866.8382 | J10: =SUM(J6:J9) -> 7252.5503 | K10: =SUM(K6:K9) -> 8605.7061 | L10: =SUM(L6:L9) -> 9175.5792 | M10: =SUM(M6:M9) -> 10455.503
C11: Target Debt: Capital Ratio | D11: 0
C12: Terminal Growth Rate | D12: 0.04 | H12: Terminal Growth value | M12: ='Scenario analysis'!D13*'Income Statement'!M27 -> 210384.89
C13: WACC | D13: =D9*(1-D10)*D11+D8*(1-D11) -> 0.156245
H14: No of years | I14: 0.5 | J14: 1.5 | K14: 2.5 | L14: 3.5 | M14: 4.5
H15: Discount Factor | I15: =1/(1+$D$13)^I14 -> 0.92998312 | J15: =1/(1+$D$13)^J14 -> 0.8043132 | K15: =1/(1+$D$13)^K14 -> 0.69562524 | L15: =1/(1+$D$13)^L14 -> 0.60162443 | M15: =1/(1+$D$13)^M14 -> 0.52032608
C16: Enterprise Value | D16: =SUM(I16:M17) -> 136775.01 | H16: PV of FCFF | I16: =I15*I10 -> 4526.0774 | J16: =J15*J10 -> 5833.322 | K16: =K15*K10 -> 5986.3463 | L16: =L15*L10 -> 5520.2526 | M16: =M15*M10 -> 5440.2708
C17: Less : Total Debt | D17: 0 | H17: PV of Terminal Growth value | M17: =M12*M15 -> 109468.75
C18: Add : Cash | D18: ='Balance Sheet'!H26 -> 1383.65
C19: Equity Value | D19: =SUM(D16:D18) -> 138158.66
C20: Share Capital | D20: 289.37
C21: No of Shares | D21: 289367020
C22: Share Price | D22: =(D19*10^7)/D21 -> 4774.5132

Sheet Scenario analysis
A1: Scenario Analysis
I3: FY24 E | J3: FY25 E | K3: FY26 E | L3: FY27 E | M3: FY28E
C4: Chosen Scenario | D4: 2 | G4: Key assumptions
B5: 1 | C5: Best case | G5: YoY Growth in Domestic market | I5: =CHOOSE($D$4,I6,I7,I8) -> 0.1 | J5: =CHOOSE($D$4,J6,J7,J8) -> 0.12 | K5: =CHOOSE($D$4,K6,K7,K8) -> 0.08 | L5: =CHOOSE($D$4,L6,L7,L8) -> 0.06 | M5: =CHOOSE($D$4,M6,M7,M8) -> 0.05
B6: 2 | C6: Base Case | G6: Best case | I6: 0.15 | J6: 0.12 | K6: 0.1 | L6: 0.08 | M6: 0.06
B7: 3 | C7: Worst Case | G7: Base Case | I7: 0.1 | J7: 0.12 | K7: 0.08 | L7: 0.06 | M7: 0.05
C8: Valuation | D8: =DCF!D22 -> 4774.5132 | G8: Worst Case | I8: 0.05 | J8: 0.07 | K8: 0.08 | L8: 0.06 | M8: 0.06
G10: YoY Growth in International market | I10: =CHOOSE($D$4,I11,I12,I13) -> -0.01 | J10: =CHOOSE($D$4,J11,J12,J13) -> 0.02 | K10: =CHOOSE($D$4,K11,K12,K13) -> 0.05 | L10: =CHOOSE($D$4,L11,L12,L13) -> 0.05 | M10: =CHOOSE($D$4,M11,M12,M13) -> 0.05
C11: Terminal PE Multiple | G11: Best case | I11: 0.03 | J11: 0.05 | K11: 0.05 | L11: 0.05 | M11: 0.05
C12: Best case | D12: 20 | G12: Base Case | I12: -0.01 | J12: 0.02 | K12: 0.05 | L12: 0.05 | M12: 0.05
C13: Base Case | D13: 17 | G13: Worst Case | I13: -0.05 | J13: -0.02 | K13: 0 | L13: 0.03 | M13: 0.05
C14: Worst Case | D14: 15
G15: YoY Growth in Average Price realization (Domestic) | I15: =CHOOSE($D$4,I16,I17,I18) -> 0.1 | J15: =CHOOSE($D$4,J16,J17,J18) -> 0.08 | K15: =CHOOSE($D$4,K16,K17,K18) -> 0.06 | L15: =CHOOSE($D$4,L16,L17,L18) -> 0.06 | M15: =CHOOSE($D$4,M16,M17,M18) -> 0.06
G16: Best case | I16: 0.12 | J16: 0.1 | K16: 0.08 | L16: 0.08 | M16: 0.06
G17: Base Case | I17: 0.1 | J17: 0.08 | K17: 0.06 | L17: 0.06 | M17: 0.06
G18: Worst Case | I18: 0.07 | J18: 0.06 | K18: 0.05 | L18: 0.05 | M18: 0.05
G20: YoY Growth in Average Price realization (International) | I20: =CHOOSE($D$4,I21,I22,I23) -> 0.08 | J20: =CHOOSE($D$4,J21,J22,J23) -> 0.07 | K20: =CHOOSE($D$4,K21,K22,K23) -> 0.065 | L20: =CHOOSE($D$4,L21,L22,L23) -> 0.06 | M20: =CHOOSE($D$4,M21,M22,M23) -> 0.06
G21: Best case | I21: 0.1 | J21: 0.09 | K21: 0.08 | L21: 0.07 | M21: 0.06
G22: Base Case | I22: 0.08 | J22: 0.07 | K22: 0.065 | L22: 0.06 | M22: 0.06
G23: Worst Case | I23: 0.03 | J23: 0.05 | K23: 0.05 | L23: 0.05 | M23: 0.05

Sheet Relative
A1: Present Date | B1: 45003
A2: Fig in Crores
B3: TVS | D3: Eicher Motor | F3: Hero Moto | H3: Bajaj Auto
B4: FY22 | C4: TTM | D4: FY22 | E4: TTM | F4: FY22 | G4: TTM | H4: FY22 | I4: TTM
A5: Revenue | B5: 24355.31 | C5: 30527.79 | D5: 10122.86 | E5: 13831.18 | F5: 29551.28 | G5: 33220.65 | H5: ='Income Statement'!G7 -> 33144.71 | I5: 35500.99
A6: EBITDA | B6: 2754.63 | C6: 3843.65 | D6: 2113.56 | E6: 3266.98 | F6: 3444.77 | G6: 3825.52 | H6: ='Income Statement'!G12 -> 5236.61 | I6: 6725.05
A7: EBIT | B7: 2011.77 | C7: 3009.62 | D7: 1668.04 | E7: 3276.98 | F7: 2755.25 | G7: 3139.5 | H7: ='Income Statement'!G14 -> 4966.85 | I7: 6139.39
A8: Net Profit | B8: 730.88 | C8: 1248.57 | D8: 1586.22 | E8: 2618.5 | F8: 2329.05 | G8: 2609.66 | H8: ='Income Statement'!G22 -> 7651.68 | I8: 5881.63
A9: Mcap | C9: 49736 | E9: 81350 | G9: 47065 | I9: 107931
A11: Debt | B11: 7708.82 | C11: 9493.83 | D11: 34.64 | E11: 87.65 | F11: 251.68 | G11: 262.01 | H11: 0 | I11: 0
A12: Cash equivalent | B12: 1445.68 | C12: 2170.65 | D12: 2698.56 | E12: 2283.28 | F12: 299.74 | G12: 417.79 | H12: ='Balance Sheet'!G26+'Balance Sheet'!G27 -> 958.06 | I12: 1116
A13: EV | C13: =C9+C11-C12 -> 57059.18 | E13: =E9+E11-E12 -> 79154.37 | G13: =G9+G11-G12 -> 46909.22 | I13: =I9+I11-I12 -> 106815
A15: Equity | B15: 5053.01 | C15: 5450.99 | D15: 10794.57 | E15: 11391.27 | F15: 15994.7 | G15: 16542.73 | H15: ='Balance Sheet'!G40 -> 29859.66 | I15: ='Balance Sheet'!H40 -> 28874.97
A16: ROE | B16: =B8/B15 -> 0.1446425 | C16: =C8/C15 -> 0.2290538 | D16: =D8/D15 -> 0.1469461 | E16: =E8/E15 -> 0.22986901 | F16: =F8/F15 -> 0.14561386 | G16: =G8/G15 -> 0.15775268 | H16: =H8/H15 -> 0.25625476 | I16: =I8/I15 -> 0.20369303
A17: EBITDA Margin | B17: =B6/B5 -> 0.11310182 | C17: =C6/C5 -> 0.12590659 | D17: =D6/D5 -> 0.2087908 | E17: =E6/E5 -> 0.236204 | F17: =F6/F5 -> 0.11656923 | G17: =G6/G5 -> 0.11515488 | H17: =H6/H5 -> 0.15799233 | I17: =I6/I5 -> 0.18943275
A18: Net Profit Margin | B18: =B8/B5 -> 0.030009062 | C18: =C8/C5 -> 0.040899456 | D18: =D8/D5 -> 0.15669682 | E18: =E8/E5 -> 0.18931863 | F18: =F8/F5 -> 0.078813845 | G18: =G8/G5 -> 0.078555356 | H18: =H8/H5 -> 0.23085675 | I18: =I8/I5 -> 0.1656751
A20: EV/Revenue | C20: =C$13/C5 -> 1.8690898 | E20: =E$13/E5 -> 5.7228935 | G20: =G$13/G5 -> 1.41205 | I20: =I$13/I5 -> 3.0087893
A21: EV/EBITDA | C21: =C$13/C6 -> 14.845051 | E21: =E$13/E6 -> 24.228606 | G21: =G$13/G6 -> 12.262181 | I21: =I$13/I6 -> 15.883153
A22: EV/EBIT | C22: =C$13/C7 -> 18.958932 | E22: =E$13/E7 -> 24.15467 | G22: =G$13/G7 -> 14.941621 | I22: =I$13/I7 -> 17.398308
A24: P/E | C24: =C9/C8 -> 39.834371 | E24: =E9/E8 -> 31.067405 | G24: =G9/G8 -> 18.034916 | I24: =I9/I8 -> 18.350525
A25: Volume Growth(YTD) | D25: 534591 | E25: 762660 | F25: 4493996 | G25: 4809204 | H25: 4011245 | I25: 3636290
E26: =E25/D25-1 -> 0.42662334 | G26: =G25/F25-1 -> 0.070139804 | I26: =I25/H25-1 -> -0.093475966

Sheet Ratio Analysis
A1: Ratio Analysis
A2: (All numbers in Rs Crs unless specified)
A3: Particulars | E3: FY20 A | F3: FY21 A | G3: FY22 A | H3: LTM | I3: FY24 E | J3: FY25 E | K3: FY26 E | L3: FY27 E | M3: FY28 E
A4: Profitability Ratio
B5: Gross Profit Margin | E5: ='Income Statement'!E9/'Income Statement'!E7 -> 0.29781992 | F5: ='Income Statement'!F9/'Income Statement'!F7 -> 0.29311873 | G5: ='Income Statement'!G9/'Income Statement'!G7 -> 0.26595164 | H5: ='Income Statement'!H9/'Income Statement'!H7 -> 0.26875449
B6: EBITDA Margin | E6: ='Income Statement'!E12/'Income Statement'!E7 -> 0.16931479 | F6: ='Income Statement'!F12/'Income Statement'!F7 -> 0.1770807 | G6: ='Income Statement'!G12/'Income Statement'!G7 -> 0.15799233 | H6: ='Income Statement'!H12/'Income Statement'!H7 -> 0.16343608
B7: EBIT Margin | E7: ='Income Statement'!E14/'Income Statement'!E7 -> 0.16107812 | F7: ='Income Statement'!F14/'Income Statement'!F7 -> 0.16773103 | G7: ='Income Statement'!G14/'Income Statement'!G7 -> 0.14985348 | H7: ='Income Statement'!H14/'Income Statement'!H7 -> 0.15562903
B8: Net Profit Margin | E8: ='Income Statement'!E27/'Income Statement'!E7 -> 0.17420271 | F8: ='Income Statement'!F27/'Income Statement'!F7 -> 0.17508403 | G8: ='Income Statement'!G27/'Income Statement'!G7 -> 0.18602878 | H8: ='Income Statement'!H27/'Income Statement'!H7 -> 0.16585028
B9: Return on Capital Employed | E9: ='Income Statement'!E14/('Balance Sheet'!E32-'Balance Sheet'!E59) -> 0.21652995 | F9: ='Income Statement'!F14/('Balance Sheet'!F32-'Balance Sheet'!F59) -> 0.16642863 | G9: ='Income Statement'!G14/('Balance Sheet'!G32-'Balance Sheet'!G59) -> 0.16326126 | H9: ='Income Statement'!H14/('Balance Sheet'!H32-'Balance Sheet'!H59) -> 0.18695973
B10: Return on Invested Capital | E10: ='Income Statement'!E14*(1-0.25)/(SUM('CashFlow Statement'!E57:E59)+SUM('Balance Sheet'!E6:E7,'Balance Sheet'!E9:E10)+('Balance Sheet'!E31-'Balance Sheet'!E59)) -> 0.87319415 | F10: ='Income Statement'!F14*(1-0.25)/(SUM('CashFlow Statement'!F57:F59)+SUM('Balance Sheet'!F6:F7,'Balance Sheet'!F9:F10)+('Balance Sheet'!F31-'Balance Sheet'!F59)) -> 0.34016799 | G10: ='Income Statement'!G14*(1-0.25)/(SUM('CashFlow Statement'!G57:G59)+SUM('Balance Sheet'!G6:G7,'Balance Sheet'!G9:G10)+('Balance Sheet'!G31-'Balance Sheet'!G59)) -> 0.47176272 | H10: ='Income Statement'!H14*(1-0.25)/(SUM('CashFlow Statement'!H57:H59)+SUM('Balance Sheet'!H6:H7,'Balance Sheet'!H9:H10)+('Balance Sheet'!H31-'Balance Sheet'!H59)) -> 0.59867257
B11: Return on assets | F11: ='Income Statement'!F27/AVERAGE('Balance Sheet'!E32:F32) -> 0.16159974 | G11: ='Income Statement'!G27/AVERAGE('Balance Sheet'!F32:G32) -> 0.17946756 | H11: ='Income Statement'!H27/AVERAGE('Balance Sheet'!G32:H32) -> 0.16856351
B12: Return on Equity (ROE) | F12: ='Income Statement'!F27/AVERAGE('Balance Sheet'!E40:F40) -> 0.19850689 | G12: ='Income Statement'!G27/AVERAGE('Balance Sheet'!F40:G40) -> 0.21584231 | H12: ='Income Statement'!H27/AVERAGE('Balance Sheet'!G40:H40) -> 0.1988132
B13: Net Profit Margin | F13: =F8 -> 0.17508403 | G13: =G8 -> 0.18602878 | H13: =H8 -> 0.16585028
B14: Total Asset Turover Ratio | F14: ='Income Statement'!F7/AVERAGE('Balance Sheet'!E32:F32) -> 0.92298392 | G14: ='Income Statement'!G7/AVERAGE('Balance Sheet'!F32:G32) -> 0.96473007 | H14: ='Income Statement'!H7/AVERAGE('Balance Sheet'!G32:H32) -> 1.0163595
B15: Financial Leverage Ratio | F15: =AVERAGE('Balance Sheet'!E32:F32)/AVERAGE('Balance Sheet'!E40:F40) -> 1.2283862 | G15: =AVERAGE('Balance Sheet'!F32:G32)/AVERAGE('Balance Sheet'!F40:G40) -> 1.2026815 | H15: =AVERAGE('Balance Sheet'!G32:H32)/AVERAGE('Balance Sheet'!G40:H40) -> 1.1794558
B16: Check | F16: =IF(F13*F14*F15=F12,TRUE,FALSE) -> TRUE | G16: =IF(G13*G14*G15=G12,TRUE,FALSE) -> TRUE | H16: =IF(H13*H14*H15=H12,TRUE,FALSE) -> TRUE
B17: Retention rate | F17: =1-F19 -> 0.9982026 | G17: =1-G19 -> 0.34332381 | H17: =1-H19 -> 0.3070474
B18: Sustainable growth rate | F18: =F12*F17 -> 0.1981501 | G18: =G12*G17 -> 0.074103803 | H18: =H12*H17 -> 0.061045077
B19: Dividend Payout Ratio | F19: =ABS('CashFlow Statement'!F68)/'Income Statement'!F27 -> 0.0017973984 | G19: =ABS('CashFlow Statement'!G68)/'Income Statement'!G27 -> 0.65667619 | H19: =ABS('CashFlow Statement'!H68)/'Income Statement'!H27 -> 0.6929526
A21: Efficiency Ratios
B22: Fixed Asset Turnover Ratio | F22: ='Income Statement'!F7/AVERAGE(('Balance Sheet'!F6+'Balance Sheet'!F7+'Balance Sheet'!F9),('Balance Sheet'!E6+'Balance Sheet'!E7+'Balance Sheet'!E9)) -> 16.69696 | G22: ='Income Statement'!G7/AVERAGE(('Balance Sheet'!G6+'Balance Sheet'!G7+'Balance Sheet'!G9),('Balance Sheet'!F6+'Balance Sheet'!F7+'Balance Sheet'!F9)) -> 18.975834 | H22: ='Income Statement'!H7/AVERAGE(('Balance Sheet'!H6+'Balance Sheet'!H7+'Balance Sheet'!H9),('Balance Sheet'!G6+'Balance Sheet'!G7+'Balance Sheet'!G9)) -> 17.687214
B23: Total Assets Turnover | F23: ='Income Statement'!F7/AVERAGE('Balance Sheet'!F32,'Balance Sheet'!E32) -> 0.92298392 | G23: ='Income Statement'!G7/AVERAGE('Balance Sheet'!G32,'Balance Sheet'!F32) -> 0.96473007 | H23: ='Income Statement'!H7/AVERAGE('Balance Sheet'!H32,'Balance Sheet'!G32) -> 1.0163595
B24: Inventory Turnover ratio | E24: ='Income Statement'!E5/'Balance Sheet'!E22 -> 27.373333 | F24: ='Income Statement'!F5/'Balance Sheet'!F22 -> 18.162582 | G24: ='Income Statement'!G5/'Balance Sheet'!G22 -> 26.115984 | H24: ='Income Statement'!H5/'Balance Sheet'!H22 -> 24.947012
B25: Number of Days in Inventory | E25: =365/E24 -> 13.334145 | F25: =365/F24 -> 20.096261 | G25: =365/G24 -> 13.976115 | H25: =365/H24 -> 14.631011
B26: Receivable Turnover ratio | E26: ='Income Statement'!E5/'Balance Sheet'!E25 -> 16.875277 | F26: ='Income Statement'!F5/'Balance Sheet'!F25 -> 9.9868966 | G26: ='Income Statement'!G5/'Balance Sheet'!G25 -> 21.192564 | H26: ='Income Statement'!H5/'Balance Sheet'!H25 -> 24.182797
B27: Number of days in Receivables | E27: =365/E26 -> 21.629275 | F27: =365/F26 -> 36.54789 | G27: =365/G26 -> 17.223022 | H27: =365/H26 -> 15.093374
B28: Payable Turnover ratio | E28: ='Income Statement'!E8/'Balance Sheet'!E53 -> 6.5654568 | F28: ='Income Statement'!F8/'Balance Sheet'!F53 -> 4.2870963 | G28: ='Income Statement'!G8/'Balance Sheet'!G53 -> 6.6984623 | H28: ='Income Statement'!H8/'Balance Sheet'!H53 -> 6.6679549
B29: Number of days of Payables | E29: =365/E28 -> 55.593999 | F29: =365/F28 -> 85.139212 | G29: =365/G28 -> 54.490117 | H29: =365/H28 -> 54.739423
B30: Cash Conversion Cycle | E30: =E25+E27-E29 -> -20.630579 | F30: =F25+F27-F29 -> -28.495061 | G30: =G25+G27-G29 -> -23.29098 | H30: =H25+H27-H29 -> -25.015038
B31: Working Capital turnover ratio | F31: ='Income Statement'!F5/AVERAGE('Balance Sheet'!E31-'Balance Sheet'!E59,'Balance Sheet'!F31-'Balance Sheet'!F59) -> 4.9754053 | G31: ='Income Statement'!G5/AVERAGE('Balance Sheet'!F31-'Balance Sheet'!F59,'Balance Sheet'!G31-'Balance Sheet'!G59) -> 4.5194375 | H31: ='Income Statement'!H5/AVERAGE('Balance Sheet'!G31-'Balance Sheet'!G59,'Balance Sheet'!H31-'Balance Sheet'!H59) -> 6.8340163
B32: Working Capital days | F32: =365/F31 -> 73.360858 | G32: =365/G31 -> 80.762263 | H32: =365/H31 -> 53.409296
A34: Liquidty Ratio
B35: Current Ratio | F35: ='Balance Sheet'!F31/'Balance Sheet'!F59 -> 2.5139646 | G35: ='Balance Sheet'!G31/'Balance Sheet'!G59 -> 2.2108585 | H35: ='Balance Sheet'!H31/'Balance Sheet'!H59 -> 1.89227
B36: Quick Ratio | F36: =SUM('Balance Sheet'!F24:F27)/'Balance Sheet'!F59 -> 1.9994188 | G36: =SUM('Balance Sheet'!G24:G27)/'Balance Sheet'!G59 -> 1.5876229 | H36: =SUM('Balance Sheet'!H24:H27)/'Balance Sheet'!H59 -> 1.2478262
B37: Cash Ratio | F37: =SUM('Balance Sheet'!F24,'Balance Sheet'!F26:F27)/'Balance Sheet'!F59 -> 1.51801 | G37: =SUM('Balance Sheet'!G24,'Balance Sheet'!G26:G27)/'Balance Sheet'!G59 -> 1.2641975 | H37: =SUM('Balance Sheet'!H24,'Balance Sheet'!H26:H27)/'Balance Sheet'!H59 -> 0.95666267
A38: Solvency ratio
B39: Interest coverage ratio | F39: ='Income Statement'!F14/'Income Statement'!F15 -> 698.65465 | G39: ='Income Statement'!G14/'Income Statement'!G15 -> 573.53926 | H39: ='Income Statement'!H14/'Income Statement'!H15 -> 274.90115

Sheet Assumptions
A1: Assumptions
A2: (All numbers in Rs Crs unless specified)
A3: Particulars | E3: FY20 A | F3: FY21 A | G3: FY22 A | H3: LTM | I3: FY24 E | J3: FY25 E | K3: FY26 E | L3: FY27 E | M3: FY28 E
A4: Income Statement Assumptions
A5: ='Income Statement'!B7 -> Revenue from operations
A6: Domestic sales volume YOY% | F6: ='Revenue Model'!F9 -> -0.2151777 | G6: ='Revenue Model'!G9 -> -0.060294145 | H6: ='Revenue Model'!H9 -> 0.13607499 | I6: ='Scenario analysis'!I5 -> 0.1 | J6: ='Scenario analysis'!J5 -> 0.12 | K6: ='Scenario analysis'!K5 -> 0.08 | L6: ='Scenario analysis'!L5 -> 0.06 | M6: ='Scenario analysis'!M5 -> 0.05
A7: International sales volume YOY% | F7: ='Revenue Model'!F14 -> -0.053824205 | G7: ='Revenue Model'!G14 -> 0.22021646 | H7: ='Revenue Model'!H14 -> -0.24734244 | I7: ='Scenario analysis'!I10 -> -0.01 | J7: ='Scenario analysis'!J10 -> 0.02 | K7: ='Scenario analysis'!K10 -> 0.05 | L7: ='Scenario analysis'!L10 -> 0.05 | M7: ='Scenario analysis'!M10 -> 0.05
A8: Growth in Average Price realization - Domestic | F8: ='Revenue Model'!F18 -> 0.089409037 | G8: ='Revenue Model'!G18 -> 0.11987479 | H8: ='Revenue Model'!H18 -> 0.18862589 | I8: ='Scenario analysis'!I15 -> 0.1 | J8: ='Scenario analysis'!J15 -> 0.08 | K8: ='Scenario analysis'!K15 -> 0.06 | L8: ='Scenario analysis'!L15 -> 0.06 | M8: ='Scenario analysis'!M15 -> 0.06
A9: Growth in Average Price realization - International | F9: ='Revenue Model'!F22 -> 0.097659566 | G9: ='Revenue Model'!G22 -> 0.093840885 | H9: ='Revenue Model'!H22 -> 0.073745927 | I9: ='Scenario analysis'!I20 -> 0.08 | J9: ='Scenario analysis'!J20 -> 0.07 | K9: ='Scenario analysis'!K20 -> 0.065 | L9: ='Scenario analysis'!L20 -> 0.06 | M9: ='Scenario analysis'!M20 -> 0.06
A10: Operating Income | F10: ='Income Statement'!F6/'Income Statement'!F5 -> 0.022414854 | G10: ='Income Statement'!G6/'Income Statement'!G5 -> 0.031389427 | H10: ='Income Statement'!H6/'Income Statement'!H5 -> 0.028951077 | I10: =AVERAGE(F10:H10) -> 0.02758512 | J10: =AVERAGE(G10:I10) -> 0.029308541 | K10: =AVERAGE(H10:J10) -> 0.028614913 | L10: =AVERAGE(I10:K10) -> 0.028502858 | M10: =AVERAGE(J10:L10) -> 0.028808771
A11: Cost of Goods sold | F11: ='Income Statement'!F8/'Income Statement'!F7 -> 0.70688127 | G11: ='Income Statement'!G8/'Income Statement'!G7 -> 0.73404836 | H11: ='Income Statement'!H8/'Income Statement'!H7 -> 0.73124551 | I11: =H11 -> 0.73124551 | J11: 0.7 | K11: 0.7 | L11: 0.7 | M11: 0.7
A12: Employee benefits expense | F12: ='Income Statement'!F10/'Income Statement'!F5 -> 0.047473731 | G12: ='Income Statement'!G10/'Income Statement'!G5 -> 0.042406984 | H12: ='Income Statement'!H10/'Income Statement'!H5 -> 0.040657248 | I12: 0.04 | J12: 0.04 | K12: 0.04 | L12: 0.04 | M12: 0.04
A13: Other Expenses | F13: ='Income Statement'!F11/'Income Statement'!F5 -> 0.071165264 | G13: ='Income Statement'!G11/'Income Statement'!G5 -> 0.068941106 | H13: ='Income Statement'!H11/'Income Statement'!H5 -> 0.067710248 | I13: =AVERAGE(F13:H13) -> 0.069272206 | J13: =AVERAGE(G13:I13) -> 0.068641187 | K13: =AVERAGE(H13:J13) -> 0.068541214 | L13: =AVERAGE(I13:K13) -> 0.068818202 | M13: =AVERAGE(J13:L13) -> 0.068666868
A14: Other Income | F14: ='Income Statement'!F17/'Income Statement'!F5 -> 0.047044732 | G14: ='Income Statement'!G17/'Income Statement'!G5 -> 0.039959572 | H14: ='Income Statement'!H17/'Income Statement'!H5 -> 0.037704619 | I14: 0.035 | J14: 0.03 | K14: 0.03 | L14: 0.03 | M14: 0.03
A15: Finance cost | F15: ='Income Statement'!F15/'Income Statement'!F5 -> 0.00024545847 | G15: ='Income Statement'!G15/'Income Statement'!G5 -> 0.00026947988 | H15: ='Income Statement'!H15/'Income Statement'!H5 -> 0.00058251723 | I15: =AVERAGE(F15:H15) -> 0.00036581853 | J15: =AVERAGE(G15:I15) -> 0.00040593855 | K15: =AVERAGE(H15:J15) -> 0.00045142477 | L15: =AVERAGE(I15:K15) -> 0.00040772728 | M15: =AVERAGE(J15:L15) -> 0.00042169687
A16: Effective tax rate | F16: ='Income Statement'!E26/'Income Statement'!E18 -> 0.23235101 | G16: ='Income Statement'!F26/'Income Statement'!F18 -> 0.23325768 | H16: ='Income Statement'!G26/'Income Statement'!G18 -> 0.23751527 | I16: 0.25 | J16: 0.25 | K16: 0.25 | L16: 0.25 | M16: 0.25
A17: ='Income Statement'!B19 -> Share in profit of associate | F17: ='Income Statement'!F19/'Income Statement'!E19-1 -> -0.047245809 | G17: ='Income Statement'!G19/'Income Statement'!F19-1 -> 0.89191042 | H17: ='Income Statement'!H19/'Income Statement'!G19-1 -> -0.30730074 | I17: 0 | J17: 0.05 | K17: 0.03 | L17: 0.03 | M17: 0.03
A19: Balance Sheet Assumptions
A20: Depreciation | F20: ='Income Statement'!F13/Capex!F12 -> 0.062023679 | G20: ='Income Statement'!G13/Capex!G12 -> 0.060366414 | H20: ='Income Statement'!H13/Capex!H12 -> 0.057298442 | I20: 0.06 | J20: 0.06 | K20: 0.06 | L20: 0.06 | M20: 0.06
A21: Capital Work in Progress | F21: ='Balance Sheet'!E7/'Balance Sheet'!E6 -> 0.029050642 | G21: ='Balance Sheet'!F7/'Balance Sheet'!F6 -> 0.010191652 | H21: ='Balance Sheet'!G7/'Balance Sheet'!G6 -> 0.043879291 | I21: 0.025 | J21: 0.025 | K21: 0.025 | L21: 0.025 | M21: 0.025
A22: Intangible assets | F22: ='Balance Sheet'!F9/'Balance Sheet'!F6 -> 0.030166778 | G22: ='Balance Sheet'!G9/'Balance Sheet'!G6 -> 0.014389634 | H22: ='Balance Sheet'!H9/'Balance Sheet'!H6 -> 0.018447721 | I22: 0.02 | J22: 0.02 | K22: 0.02 | L22: 0.02 | M22: 0.02
A23: ='Ratio Analysis'!B24 -> Inventory Turnover ratio | F23: ='Ratio Analysis'!F24 -> 18.162582 | G23: ='Ratio Analysis'!G24 -> 26.115984 | H23: ='Ratio Analysis'!H24 -> 24.947012 | I23: =365/I24 -> 22.483036 | J23: =365/J24 -> 24.419296 | K23: =365/K24 -> 23.901685 | L23: =365/L24 -> 23.572442 | M23: =365/M24 -> 23.959424
A24: ='Ratio Analysis'!B25 -> Number of Days in Inventory | F24: ='Ratio Analysis'!F25 -> 20.096261 | G24: ='Ratio Analysis'!G25 -> 13.976115 | H24: ='Ratio Analysis'!H25 -> 14.631011 | I24: =AVERAGE(F24:H24) -> 16.234462 | J24: =AVERAGE(G24:I24) -> 14.947196 | K24: =AVERAGE(H24:J24) -> 15.27089 | L24: =AVERAGE(I24:K24) -> 15.484183 | M24: =AVERAGE(J24:L24) -> 15.234089
A25: ='Ratio Analysis'!B26 -> Receivable Turnover ratio | F25: ='Ratio Analysis'!F26 -> 9.9868966 | G25: ='Ratio Analysis'!G26 -> 21.192564 | H25: ='Ratio Analysis'!H26 -> 24.182797 | I25: =365/I26 -> 19.210526 | J25: =365/J26 -> 21.338209 | K25: =365/K26 -> 21.387204 | L25: =365/L26 -> 20.593644 | M25: =365/M26 -> 21.10003
A26: ='Ratio Analysis'!B27 -> Number of days in Receivables | F26: ='Ratio Analysis'!F27 -> 36.54789 | G26: ='Ratio Analysis'!G27 -> 17.223022 | H26: ='Ratio Analysis'!H27 -> 15.093374 | I26: 19 | J26: =AVERAGE(G26:I26) -> 17.105465 | K26: =AVERAGE(H26:J26) -> 17.06628 | L26: =AVERAGE(I26:K26) -> 17.723915 | M26: =AVERAGE(J26:L26) -> 17.298553
A27: ='Ratio Analysis'!B28 -> Payable Turnover ratio | F27: ='Ratio Analysis'!F28 -> 4.2870963 | G27: ='Ratio Analysis'!G28 -> 6.6984623 | H27: ='Ratio Analysis'!H28 -> 6.6679549 | I27: =365/I28 -> 6.7592593 | J27: =365/J28 -> 7.3 | K27: =365/K28 -> 6.8980974 | L27: =365/L28 -> 6.978383 | M27: =365/M28 -> 7.0546159
A28: ='Ratio Analysis'!B29 -> Number of days of Payables | F28: ='Ratio Analysis'!F29 -> 85.139212 | G28: ='Ratio Analysis'!G29 -> 54.490117 | H28: ='Ratio Analysis'!H29 -> 54.739423 | I28: 54 | J28: 50 | K28: =AVERAGE(H28:J28) -> 52.913141 | L28: =AVERAGE(I28:K28) -> 52.30438 | M28: =AVERAGE(J28:L28) -> 51.739174
A29: Dividend Payout Ratio | F29: ='Ratio Analysis'!F19 -> 0.0017973984 | G29: ='Ratio Analysis'!G19 -> 0.65667619 | H29: ='Ratio Analysis'!H19 -> 0.6929526 | I29: 0.7 | J29: 0.7 | K29: 0.7 | L29: 0.7 | M29: 0.7

Sheet Revenue Model
A1: Revenue Model
A2: (All numbers in Rs Crs unless specified)
A3: Particulars | E3: FY20 A | F3: FY21 A | G3: FY22 A | H3: FY23 (TTM) | I3: FY24 E | J3: FY25 E | K3: FY26 E | L3: FY27 E | M3: FY28 E
A5: Domestic sales
C6: Motorcycles | E6: =E34 -> 2078136 | F6: =F34 -> 1807980 | G6: =G34+G65 -> 1641084 | H6: =1653596+107081 -> 1760677
C7: Commercial Vehicles | E7: =E62 -> 364817 | F7: =F62 -> 109304 | G7: =G62 -> 160599 | H7: =266499+19671 -> 286170
C8: Total numbers | E8: =SUM(E6:E7) -> 2442953 | F8: =SUM(F6:F7) -> 1917284 | G8: =SUM(G6:G7) -> 1801683 | H8: =SUM(H6:H7) -> 2046847 | I8: =H8*(1+I9) -> 2251531.7 | J8: =I8*(1+J9) -> 2521715.5 | K8: =J8*(1+K9) -> 2723452.7 | L8: =K8*(1+L9) -> 2886859.9 | M8: =L8*(1+M9) -> 3031202.9
C9: Volume Growth | F9: =F8/E8-1 -> -0.2151777 | G9: =G8/F8-1 -> -0.060294145 | H9: =H8/G8-1 -> 0.13607499 | I9: =Assumptions!I6 -> 0.1 | J9: =Assumptions!J6 -> 0.12 | K9: =Assumptions!K6 -> 0.08 | L9: =Assumptions!L6 -> 0.06 | M9: =Assumptions!M6 -> 0.05
A10: International Sales | F10: =F13/(F8+F13) -> 0.5172431 | G10: =G13/(G8+G13) -> 0.58181203 | H10: =H13/(H8+H13) -> 0.47963431
C11: Motorcycles | E11: 1869220 | F11: 1796518 | G11: 2195772 | H11: =1542241+149243 -> 1691484
C12: Commercial Vehicles | E12: 301885 | F12: 257729 | G12: 310854 | H12: =173954+21193 -> 195147
C13: Total numbers | E13: =SUM(E11:E12) -> 2171105 | F13: =SUM(F11:F12) -> 2054247 | G13: =SUM(G11:G12) -> 2506626 | H13: =SUM(H11:H12) -> 1886631 | I13: =H13*(1+I14) -> 1867764.7 | J13: =I13*(1+J14) -> 1905120 | K13: =J13*(1+K14) -> 2000376 | L13: =K13*(1+L14) -> 2100394.8 | M13: =L13*(1+M14) -> 2205414.5
C14: Volume Growth | F14: =F13/E13-1 -> -0.053824205 | G14: =G13/F13-1 -> 0.22021646 | H14: =H13/G13-1 -> -0.24734244 | I14: =Assumptions!I7 -> -0.01 | J14: =Assumptions!J7 -> 0.02 | K14: =Assumptions!K7 -> 0.05 | L14: =Assumptions!L7 -> 0.05 | M14: =Assumptions!M7 -> 0.05
A16: Domestic Revenue | E16: 16895.61 | F16: 14445.62 | G16: 15201.89 | H16: ='Income Statement'!H5*0.6 -> 20528.148 | I16: =(I8*I17)/10^7 -> 24839.059 | J16: =(J8*J17)/10^7 -> 30045.326 | K16: =(K8*K17)/10^7 -> 34395.889 | L16: =(L8*L17)/10^7 -> 38647.221 | M16: =(M8*M17)/10^7 -> 43014.357
B17: Average Price realization | E17: =E16*(10^7)/E8 -> 69160.602 | F17: =F16*(10^7)/F8 -> 75344.185 | G17: =G16*(10^7)/G8 -> 84376.053 | H17: =H16*(10^7)/H8 -> 100291.56 | I17: =H17*(1+I18) -> 110320.72 | J17: =I17*(1+J18) -> 119146.37 | K17: =J17*(1+K18) -> 126295.16 | L17: =K17*(1+L18) -> 133872.87 | M17: =L17*(1+M18) -> 141905.24
B18: YoY Growth | F18: =F17/E17-1 -> 0.089409037 | G18: =G17/F17-1 -> 0.11987479 | H18: =H17/G17-1 -> 0.18862589 | I18: =Assumptions!I8 -> 0.1 | J18: =Assumptions!J8 -> 0.08 | K18: =Assumptions!K8 -> 0.06 | L18: =Assumptions!L8 -> 0.06 | M18: =Assumptions!M8 -> 0.06
A20: Exports in Rs (crore) | E20: 12216 | F20: 12687.28 | G20: 16934 | H20: ='Income Statement'!H5-'Revenue Model'!H16 -> 13685.432 | I20: =(I13*I21)/10^7 -> 14632.464 | J20: =(J13*J21)/10^7 -> 15969.871 | K20: =(K13*K21)/10^7 -> 17858.308 | L20: =(L13*L21)/10^7 -> 19876.297 | M20: =(M13*M21)/10^7 -> 22122.319
B21: Average Price realization | E21: =E20*10^7/E13 -> 56266.279 | F21: =F20*10^7/F13 -> 61761.22 | G21: =G20*10^7/G13 -> 67556.947 | H21: =H20*10^7/H13 -> 72538.997 | I21: =H21*(1+I22) -> 78342.117 | J21: =I21*(1+J22) -> 83826.065 | K21: =J21*(1+K22) -> 89274.759 | L21: =K21*(1+L22) -> 94631.244 | M21: =L21*(1+M22) -> 100309.12
B22: YOY Growth | F22: =F21/E21-1 -> 0.097659566 | G22: =G21/F21-1 -> 0.093840885 | H22: =H21/G21-1 -> 0.073745927 | I22: =Assumptions!I9 -> 0.08 | J22: =Assumptions!J9 -> 0.07 | K22: =Assumptions!K9 -> 0.065 | L22: =Assumptions!L9 -> 0.06 | M22: =Assumptions!M9 -> 0.06
B24: Total Volume | E24: =E8+E13 -> 4614058 | F24: =F8+F13 -> 3971531 | G24: =G8+G13 -> 4308309 | H24: =H8+H13 -> 3933478 | I24: =I8+I13 -> 4119296.4 | J24: =J8+J13 -> 4426835.5 | K24: =K8+K13 -> 4723828.7 | L24: =L8+L13 -> 4987254.7 | M24: =M8+M13 -> 5236617.4
A31: Domestic sales unit
B32: Industry | E32: 11214640 | F32: 10019836 | G32: 8984186
B33: Industry Volume Growth | F33: =F32/E32-1 -> -0.10653967 | G33: =G32/F32-1 -> -0.10335998
B34: BAL's Volume | E34: 2078136 | F34: 1807980 | G34: 1632897
B35: BAL's Volume Growth | F35: =F34/E34-1 -> -0.12999919 | G35: =G34/F34-1 -> -0.096839014
B36: BAL'S Market Share | E36: =E34/E32 -> 0.18530564 | F36: =F34/F32 -> 0.18044008 | G36: =G34/G32 -> 0.18175236
B38: Domestic Two wheeler Segment
B39: Mileage Segment
B40: Industry | F40: =F41/F42 -> 650296.05 | G40: =G41/G42 -> 597682.35
B41: BAL's Volume | F41: 98845 | G41: 101606
B42: Market Share | F42: 0.152 | G42: 0.17
B44: Sports Segment
B45: Industry | F45: =G45/(1-0.19) -> 186277.78 | G45: 150885
B46: BAL | F46: 51820 | G46: 34469
B47: Market Share | F47: 0.28 | G47: =G46/G45 -> 0.2284455
B49: Three Wheeler
B50: Passenger carriers
B51: Industry sales | E51: 525015 | F51: 134087 | G51: 183607
B52: BAL’s sales | E52: 334714 | F52: 81618 | G52: 130172
B53: BAL’s market share | E53: =E52/E51 -> 0.63753226 | F53: =F52/F51 -> 0.60869436 | G53: =G52/G51 -> 0.70897079
...

Sheet Income Statement
A1: Income Statement
A2: (All numbers in Rs Crs unless specified)
A3: Particulars | E3: FY20 A | F3: FY21 A | G3: FY22 A | H3: LTM | I3: FY24 E | J3: FY25 E | K3: FY26 E | L3: FY27 E | M3: FY28E
B5: Revenue from contracts with customers | E5: 29111.54 | F5: 27132.9 | G5: 32135.98 | H5: 34213.58 | I5: ='Revenue Model'!I16+'Revenue Model'!I20 -> 39471.523 | J5: ='Revenue Model'!J16+'Revenue Model'!J20 -> 46015.197 | K5: ='Revenue Model'!K16+'Revenue Model'!K20 -> 52254.197 | L5: ='Revenue Model'!L16+'Revenue Model'!L20 -> 58523.518 | M5: ='Revenue Model'!M16+'Revenue Model'!M20 -> 65136.676
B6: Other operating revenue | E6: 807.11 | F6: 608.18 | G6: 1008.73 | H6: 990.52 | I6: =I5*Assumptions!I10 -> 1088.8267 | J6: =J5*Assumptions!J10 -> 1348.6383 | K6: =K5*Assumptions!K10 -> 1495.2493 | L6: =L5*Assumptions!L10 -> 1668.0875 | M6: =M5*Assumptions!M10 -> 1876.5075
B7: Revenue from operations | E7: =SUM(E5:E6) -> 29918.65 | F7: =SUM(F5:F6) -> 27741.08 | G7: =SUM(G5:G6) -> 33144.71 | H7: =SUM(H5:H6) -> 35204.1 | I7: =SUM(I5:I6) -> 40560.35 | J7: =SUM(J5:J6) -> 47363.835 | K7: =SUM(K5:K6) -> 53749.447 | L7: =SUM(L5:L6) -> 60191.606 | M7: =SUM(M5:M6) -> 67013.183
B8: Cost of Goods Sold (COGS) | D8: ="Includes " & "Cost of raw materials and components consumed,Purchase of traded goods,Changes in inventories of finished goods, work-in-progress and traded goods" -> Includes Cost of raw materials and components consumed,Purchase of traded goods,Changes in inventories of finished goods, work-in-progress and traded goods | E8: 21008.28 | F8: 19609.65 | G8: 24329.82 | H8: 25742.84 | I8: =I5*Assumptions!I11 -> 28863.374 | J8: =J5*Assumptions!J11 -> 32210.638 | K8: =K5*Assumptions!K11 -> 36577.938 | L8: =L5*Assumptions!L11 -> 40966.463 | M8: =M5*Assumptions!M11 -> 45595.673
A9: Gross Profit | E9: =E7-E8 -> 8910.37 | F9: =F7-F8 -> 8131.43 | G9: =G7-G8 -> 8814.89 | H9: =H7-H8 -> 9461.26 | I9: =I7-I8 -> 11696.976 | J9: =J7-J8 -> 15153.197 | K9: =K7-K8 -> 17171.509 | L9: =L7-L8 -> 19225.143 | M9: =M7-M8 -> 21417.51
B10: Employee benefits expense | E10: 1390.81 | F10: 1288.1 | G10: 1362.79 | H10: 1391.03 | I10: =I5*Assumptions!I12 -> 1578.8609 | J10: =J5*Assumptions!J12 -> 1840.6079 | K10: =K5*Assumptions!K12 -> 2090.1679 | L10: =L5*Assumptions!L12 -> 2340.9407 | M10: =M5*Assumptions!M12 -> 2605.467
B11: Other expenses | E11: 2453.89 | F11: 1930.92 | G11: 2215.49 | H11: 2316.61 | I11: =I5*Assumptions!I13 -> 2734.2795 | J11: =J5*Assumptions!J13 -> 3158.5377 | K11: =K5*Assumptions!K13 -> 3581.5661 | L11: =L5*Assumptions!L13 -> 4027.4833 | M11: =M5*Assumptions!M13 -> 4472.7315
A12: Earnings before Interest Tax Depreciation Amortization (EBITDA) | E12: =E9-SUM(E10:E11) -> 5065.67 | F12: =F9-SUM(F10:F11) -> 4912.41 | G12: =G9-SUM(G10:G11) -> 5236.61 | H12: =H9-SUM(H10:H11) -> 5753.62 | I12: =I9-SUM(I10:I11) -> 7383.8354 | J12: =J9-SUM(J10:J11) -> 10154.052 | K12: =K9-SUM(K10:K11) -> 11499.775 | L12: =L9-SUM(L10:L11) -> 12856.719 | M12: =M9-SUM(M10:M11) -> 14339.312
B13: Depreciation and amortisation expense | E13: 246.43 | F13: 259.37 | G13: 269.76 | H13: 274.84 | I13: =Capex!I16 -> 287.7984 | J13: =Capex!J16 -> 308.7984 | K13: =Capex!K16 -> 329.7984 | L13: =Capex!L16 -> 353.7984 | M13: =Capex!M16 -> 379.2984
A14: Earnings Before Interest and Tax | E14: =E12-E13 -> 4819.24 | F14: =F12-F13 -> 4653.04 | G14: =G12-G13 -> 4966.85 | H14: =H12-H13 -> 5478.78 | I14: =I12-I13 -> 7096.037 | J14: =J12-J13 -> 9845.2534 | K14: =K12-K13 -> 11169.976 | L14: =L12-L13 -> 12502.921 | M14: =M12-M13 -> 13960.013
B15: Finance costs | E15: 3.16 | F15: 6.66 | G15: 8.66 | H15: 19.93 | I15: =I5*Assumptions!I15 -> 14.439414 | J15: =J5*Assumptions!J15 -> 18.679342 | K15: =K5*Assumptions!K15 -> 23.588839 | L15: =L5*Assumptions!L15 -> 23.861635 | M15: =M5*Assumptions!M15 -> 27.467932
B16: Expenses, included in above items, capitalised | E16: -29.97 | F16: -12.27 | G16: -13.31 | H16: -14.29 | I16: 0 | J16: 0 | K16: 0 | L16: 0 | M16: 0
B17: Other income | E17: 1524.57 | F17: 1276.46 | G17: 1284.14 | H17: 1290.01 | I17: =I5*Assumptions!I14 -> 1381.5033 | J17: =J5*Assumptions!J14 -> 1380.4559 | K17: =K5*Assumptions!K14 -> 1567.6259 | L17: =L5*Assumptions!L14 -> 1755.7055 | M17: =M5*Assumptions!M14 -> 1954.1003
A18: Profit before share of associates, expectional items and tax | E18: =E14-E15-E16+E17 -> 6370.62 | F18: =F14-F15-F16+F17 -> 5935.11 | G18: =G14-G15-G16+G17 -> 6255.64 | H18: =H14-H15-H16+H17 -> 6763.15 | I18: =I14-I15-I16+I17 -> 8463.1009 | J18: =J14-J15-J16+J17 -> 11207.03 | K18: =K14-K15-K16+K17 -> 12714.013 | L18: =L14-L15-L16+L17 -> 14234.764 | M18: =M14-M15-M16+M17 -> 15886.646
B19: Share in profit of associate | E19: 321.51 | F19: 306.32 | G19: 579.53 | H19: 401.44 | I19: =H19*(1+Assumptions!I17) -> 401.44 | J19: =I19*(1+Assumptions!J17) -> 421.512 | K19: =J19*(1+Assumptions!K17) -> 434.15736 | L19: =K19*(1+Assumptions!L17) -> 447.18208 | M19: =L19*(1+Assumptions!M17) -> 460.59754
A20: Profit before tax and exceptional items | E20: =E18+E19 -> 6692.13 | F20: =F18+F19 -> 6241.43 | G20: =G18+G19 -> 6835.17 | H20: =H18+H19 -> 7164.59 | I20: =I18+I19 -> 8864.5409 | J20: =J18+J19 -> 11628.542 | K20: =K18+K19 -> 13148.171 | L20: =L18+L19 -> 14681.947 | M20: =M18+M19 -> 16347.243
B21: Exceptional items | E21: 0 | F21: 0 | G21: -816.51 | H21: -315.28 | I21: 0 | J21: 0 | K21: 0 | L21: 0
A22: Profit before tax | E22: =E20-E21 -> 6692.13 | F22: =F20-F21 -> 6241.43 | G22: =G20-G21 -> 7651.68 | H22: =H20-H21 -> 7479.87 | I22: =I20-I21 -> 8864.5409 | J22: =J20-J21 -> 11628.542 | K22: =K20-K21 -> 13148.171 | L22: =L20-L21 -> 14681.947 | M22: =M20-M21 -> 16347.243
A23: Tax expense
B24: Current tax | E24: 1547.26 | F24: 1348.1 | G24: 1667.11 | H24: 1776.7 | I24: =I18*Assumptions!I16 -> 2115.7752 | J24: =J18*Assumptions!J16 -> 2801.7575 | K24: =K18*Assumptions!K16 -> 3178.5033 | L24: =L18*Assumptions!L16 -> 3558.6911 | M24: =M18*Assumptions!M16 -> 3971.6614
B25: Tax for earlier years | E25: -67.04 | F25: 36.31 | G25: -181.3 | H25: -135.44 | I25: 0 | J25: 0 | K25: 0 | L25: 0 | M25: 0
B26: Total income tax expense | E26: =SUM(E24:E25) -> 1480.22 | F26: =SUM(F24:F25) -> 1384.41 | G26: =SUM(G24:G25) -> 1485.81 | H26: =SUM(H24:H25) -> 1641.26 | I26: =SUM(I24:I25) -> 2115.7752 | J26: =SUM(J24:J25) -> 2801.7575 | K26: =SUM(K24:K25) -> 3178.5033 | L26: =SUM(L24:L25) -> 3558.6911 | M26: =SUM(M24:M25) -> 3971.6614
A27: Net profit | E27: =E22-E26 -> 5211.91 | F27: =F22-F26 -> 4857.02 | G27: =G22-G26 -> 6165.87 | H27: =H22-H26 -> 5838.61 | I27: =I22-I26 -> 6748.7656 | J27: =J22-J26 -> 8826.7845 | K27: =K22-K26 -> 9969.6673 | L27: =L22-L26 -> 11123.255 | M27: =M22-M26 -> 12375.582

Sheet Balance Sheet
A1: Balance Sheet
A2: (All numbers in Rs Crs unless specified)
A3: Particulars | E3: FY20 A | F3: FY21 A | G3: FY22 A | H3: LTM | I3: FY24 E | J3: FY25 E | K3: FY26 E | L3: FY27 E | M3: FY28E
A4: Assets
A5: Non Current Assets
B6: Property, Plant and Equipment | E6: 1602.03 | F6: 1567.95 | G6: 1759.6 | H6: 1812.69 | I6: =Capex!I20 -> 1874.8916 | J6: =Capex!J20 -> 1916.0932 | K6: =Capex!K20 -> 1986.2948 | L6: =Capex!L20 -> 2057.4964 | M6: =Capex!M20 -> 2178.198
B7: Capital wok in progress | E7: 46.54 | F7: 15.98 | G7: 77.21 | H7: 272.48 | I7: =I6*Assumptions!I21 -> 46.87229 | J7: =J6*Assumptions!J21 -> 47.90233 | K7: =K6*Assumptions!K21 -> 49.65737 | L7: =L6*Assumptions!L21 -> 51.43741 | M7: =M6*Assumptions!M21 -> 54.45495
B8: Investment Property | E8: 53.9 | F8: 52.3 | G8: 51.13 | H8: 50 | I8: =H8 -> 50 | J8: =I8 -> 50 | K8: =J8 -> 50 | L8: =K8 -> 50 | M8: =L8 -> 50
B9: Intangible assets | E9: 43.09 | F9: 47.3 | G9: 25.32 | H9: 33.44 | I9: =I6*Assumptions!I22 -> 37.497832 | J9: =J6*Assumptions!J22 -> 38.321864 | K9: =K6*Assumptions!K22 -> 39.725896 | L9: =L6*Assumptions!L22 -> 41.149928 | M9: =M6*Assumptions!M22 -> 43.56396
B10: Intangible assets under development | E10: 13.65 | F10: 0 | G10: 0 | H10: 0 | I10: 0 | J10: 0 | K10: 0 | L10: 0 | M10: 0
B11: Investments in associate of subsidiary | E11: 2950.89 | F11: 3288.96 | G11: 4063.79 | H11: 4204.62 | I11: =H11+'Income Statement'!I19 -> 4606.06 | J11: =I11+'Income Statement'!J19 -> 5027.572 | K11: =J11+'Income Statement'!K19 -> 5461.7294 | L11: =K11+'Income Statement'!L19 -> 5908.9114 | M11: =L11+'Income Statement'!M19 -> 6369.509
B12: Financial assets
C13: Investments | E13: 14182.94 | F13: 13369.58 | G13: 17601.2 | H13: 17166.53 | I13: =H13 -> 17166.53 | J13: =I13 -> 17166.53 | K13: =J13 -> 17166.53 | L13: =K13 -> 17166.53 | M13: =L13 -> 17166.53
C14: Trade Receivables | E14: 0 | F14: 0 | G14: 0 | H14: 0 | I14: 0 | J14: 0 | K14: 0 | L14: 0 | M14: 0
C15: Loans | E15: 32.49 | F15: 5.22 | G15: 4.57 | H15: 2.61 | I15: =H15 -> 2.61 | J15: =I15 -> 2.61 | K15: =J15 -> 2.61 | L15: =K15 -> 2.61 | M15: =L15 -> 2.61
C16: Other financial assets | E16: 3.13 | F16: 26.56 | G16: 61.39 | H16: 67.8 | I16: =H16 -> 67.8 | J16: =I16 -> 67.8 | K16: =J16 -> 67.8 | L16: =K16 -> 67.8 | M16: =L16 -> 67.8
B17: Income tax assets (net) | E17: 714.81 | F17: 714.81 | G17: 749.24 | H17: 783.67 | I17: =H17 -> 783.67 | J17: =I17 -> 783.67 | K17: =J17 -> 783.67 | L17: =K17 -> 783.67 | M17: =L17 -> 783.67
B18: Other non current assets | E18: 250.53 | F18: 325.39 | G18: 352.15 | H18: 575.14 | I18: =H18 -> 575.14 | J18: =I18 -> 575.14 | K18: =J18 -> 575.14 | L18: =K18 -> 575.14 | M18: =L18 -> 575.14
B19: Total Non current assets | E19: =SUM(E6:E18) -> 19894 | F19: =SUM(F6:F18) -> 19414.05 | G19: =SUM(G6:G18) -> 24745.6 | H19: =SUM(H6:H18) -> 24968.98 | I19: =SUM(I6:I18) -> 25211.072 | J19: =SUM(J6:J18) -> 25675.639 | K19: =SUM(K6:K18) -> 26183.157 | L19: =SUM(L6:L18) -> 26704.745 | M19: =SUM(M6:M18) -> 27291.476
A21: Current assets
B22: Inventories | E22: 1063.5 | F22: 1493.89 | G22: 1230.51 | H22: 1371.45 | I22: ='Income Statement'!I5/Assumptions!I23 -> 1755.6136 | J22: ='Income Statement'!J5/Assumptions!J23 -> 1884.3785 | K22: ='Income Statement'!K5/Assumptions!K23 -> 2186.2139 | L22: ='Income Statement'!L5/Assumptions!L23 -> 2482.7092 | M22: ='Income Statement'!M5/Assumptions!M23 -> 2718.6245
B23: Financial assets
C24: Investments | E24: 2779.75 | F24: 8028.11 | G24: 4969.13 | H24: 3185.34 | I24: =H24 -> 3185.34 | J24: =I24 -> 3185.34 | K24: =J24 -> 3185.34 | L24: =K24 -> 3185.34 | M24: =L24 -> 3185.34
C25: Trade Receivables | E25: 1725.1 | F25: 2716.85 | G25: 1516.38 | H25: 1414.79 | I25: ='Income Statement'!I5/Assumptions!I25 -> 2054.682 | J25: ='Income Statement'!J5/Assumptions!J25 -> 2156.4695 | K25: ='Income Statement'!K5/Assumptions!K25 -> 2443.2459 | L25: ='Income Statement'!L5/Assumptions!L25 -> 2841.8243 | M25: ='Income Statement'!M5/Assumptions!M25 -> 3087.0418
C26: Cash and Cash equivalents | E26: 285.4 | F26: 516.61 | G26: 933.69 | H26: 1383.65 | I26: ='CashFlow Statement'!I76 -> 2551.6502 | J26: ='CashFlow Statement'!J76 -> 4646.7838 | K26: ='CashFlow Statement'!K76 -> 7431.7506 | L26: ='CashFlow Statement'!L76 -> 10119.934 | M26: ='CashFlow Statement'!M76 -> 13357.504
C27: Other bank balances | E27: 30.94 | F27: 22.23 | G27: 24.37 | H27: 79.52 | I27: =H27 -> 79.52 | J27: =I27 -> 79.52 | K27: =J27 -> 79.52 | L27: =K27 -> 79.52 | M27: =L27 -> 79.52
C28: Loans | E28: 6.11 | F28: 5.74 | G28: 4.17 | H28: 2.98 | I28: =H28 -> 2.98 | J28: =I28 -> 2.98 | K28: =J28 -> 2.98 | L28: =K28 -> 2.98 | M28: =L28 -> 2.98
C29: Other financial assets | E29: 87.98 | F29: 223.53 | G29: 596.26 | H29: 800.66 | I29: =H29 -> 800.66 | J29: =I29 -> 800.66 | K29: =J29 -> 800.66 | L29: =K29 -> 800.66 | M29: =L29 -> 800.66
B30: Other current assets | E30: 637.24 | F30: 1180.7 | G30: 1091.1 | H30: 956.32 | I30: =H30 -> 956.32 | J30: =I30 -> 956.32 | K30: =J30 -> 956.32 | L30: =K30 -> 956.32 | M30: =L30 -> 956.32
B31: Total Current assets | E31: =SUM(E22:E30) -> 6616.02 | F31: =SUM(F22:F30) -> 14187.66 | G31: =SUM(G22:G30) -> 10365.61 | H31: =SUM(H22:H30) -> 9194.71 | I31: =SUM(I22:I30) -> 11386.766 | J31: =SUM(J22:J30) -> 13712.452 | K31: =SUM(K22:K30) -> 17086.03 | L31: =SUM(L22:L30) -> 20469.287 | M31: =SUM(M22:M30) -> 24187.99
A32: Total Assets | E32: =E19+E31 -> 26510.02 | F32: =F19+F31 -> 33601.71 | G32: =G19+G31 -> 35111.21 | H32: =H19+H31 -> 34163.69 | I32: =I19+I31 -> 36597.837 | J32: =J19+J31 -> 39388.091 | K32: =ROUND(K19+K31,2) -> 43269.19 | L32: =L19+L31 -> 47174.032 | M32: =M19+M31 -> 51479.466
A34: EQUITY AND LIABILITIES
A35: Equity
B36: Equity share capital | E36: 289.37 | F36: 289.37 | G36: 289.37 | H36: 283.65 | I36: =H36 -> 283.65 | J36: =I36 -> 283.65 | K36: =J36 -> 283.65 | L36: =K36 -> 283.65 | M36: =L36 -> 283.65
B37: Other equity | E37: 21372.71 | F37: 26984.06 | G37: 29570.28 | H37: 28591.31 | I37: =H37+'Income Statement'!I27+'CashFlow Statement'!I68 -> 30615.94 | J37: =I37+'Income Statement'!J27+'CashFlow Statement'!J68 -> 33263.975 | K37: =J37+'Income Statement'!K27+'CashFlow Statement'!K68 -> 36254.875 | L37: =K37+'Income Statement'!L27+'CashFlow Statement'!L68 -> 39591.852 | M37: =L37+'Income Statement'!M27+'CashFlow Statement'!M68 -> 43304.526
B38: Equity attributable to owners of the Company | E38: =SUM(E36:E37) -> 21662.08 | F38: =SUM(F36:F37) -> 27273.43 | G38: =SUM(G36:G37) -> 29859.65 | H38: =SUM(H36:H37) -> 28874.96 | I38: =SUM(I36:I37) -> 30899.59 | J38: =SUM(J36:J37) -> 33547.625 | K38: =SUM(K36:K37) -> 36538.525 | L38: =SUM(L36:L37) -> 39875.502 | M38: =SUM(M36:M37) -> 43588.176
B39: Non-controlling interest | E39: 0.01 | F39: 0.01 | G39: 0.01 | H39: 0.01 | I39: 0.01 | J39: 0.01 | K39: 0.01 | L39: 0.01 | M39: 0.01
B40: Total equity | E40: =SUM(E38:E39) -> 21662.09 | F40: =SUM(F38:F39) -> 27273.44 | G40: =SUM(G38:G39) -> 29859.66 | H40: =SUM(H38:H39) -> 28874.97 | I40: =SUM(I38:I39) -> 30899.6 | J40: =SUM(J38:J39) -> 33547.635 | K40: =SUM(K38:K39) -> 36538.535 | L40: =SUM(L38:L39) -> 39875.512 | M40: =SUM(M38:M39) -> 43588.186
A42: Non-current liabilities
B43: Financial liabilities
...

Sheet CashFlow Statement
A1: Cashflow Statement
A2: (All numbers in Rs Crs unless specified)
A3: Particulars | E3: FY20 A | F3: FY21 A | G3: FY22 A | H3: LTM | I3: FY24 E | J3: FY25 E | K3: FY26 E | L3: FY27 E | M3: FY28E
A4: Cash flow from operating activities
B5: Profit before tax | E5: 6692.13 | F5: 6241.43 | G5: 7651.68 | H5: 7479.87 | I5: ='Income Statement'!I22 -> 8864.5409 | J5: ='Income Statement'!J22 -> 11628.542 | K5: ='Income Statement'!K22 -> 13148.171 | L5: ='Income Statement'!L22 -> 14681.947 | M5: ='Income Statement'!M22 -> 16347.243
B6: Adjustments to reconcile profit before tax to net cash flows:
A7: Add:
B8: Depreciation and amortisation | E8: 246.43 | F8: 259.37 | G8: 269.76 | H8: 274.84 | I8: ='Income Statement'!I13 -> 287.7984 | J8: ='Income Statement'!J13 -> 308.7984 | K8: ='Income Statement'!K13 -> 329.7984 | L8: ='Income Statement'!L13 -> 353.7984 | M8: ='Income Statement'!M13 -> 379.2984
B9: Loss on property, plant and equipment sold, demolished, discarded and scrapped | E9: 13.7 | F9: 13.1 | G9: 8.88 | H9: 9.9 | I9: 0 | J9: 0 | K9: 0 | L9: 0 | M9: 0
B10: Provision for doubtful debts and advances | E10: 22.01 | F10: 16.15 | G10: -4.44 | H10: -8.44 | I10: 0 | J10: 0 | K10: 0 | L10: 0 | M10: 0
B11: Share based payment to employees | E11: 10.01 | F11: 6.9 | G11: 15.36 | H11: 22.39 | I11: 0 | J11: 0 | K11: 0 | L11: 0 | M11: 0
B12: Exchange loss/(gain) on cash and cash equivalents | E12: -2.16 | F12: 1.19 | G12: -3.55 | H12: 10.07 | I12: 0 | J12: 0 | K12: 0 | L12: 0 | M12: 0
B13: Exchange loss/(gain) on trade receivables | E13: -15.41 | F13: -6.01 | G13: 2.39 | H13: 1.99 | I13: 0 | J13: 0 | K13: 0 | L13: 0 | M13: 0
B14: Exchange loss/(gain) on import payables | E14: -1.98 | F14: 0.1 | G14: 3.64 | H14: 3.64 | I14: 0 | J14: 0 | K14: 0 | L14: 0 | M14: 0
B15: Interest adjustment on Government grant | E15: 1.06 | F15: 1.18 | G15: 1.31 | H15: 1.38 | I15: 0 | J15: 0 | K15: 0 | L15: 0 | M15: 0
B16: Interest expense | E16: 2.1 | F16: 5.48 | G16: 7.35 | H16: 18.55 | I16: ='Income Statement'!I15 -> 14.439414 | J16: ='Income Statement'!J15 -> 18.679342 | K16: ='Income Statement'!K15 -> 23.588839 | L16: ='Income Statement'!L15 -> 23.861635 | M16: ='Income Statement'!M15 -> 27.467932
E17: =SUM(E8:E16) -> 275.76 | F17: =SUM(F8:F16) -> 297.46 | G17: =SUM(G8:G16) -> 300.7 | H17: =SUM(H8:H16) -> 334.32 | I17: =SUM(I8:I16) -> 302.23781 | J17: =SUM(J8:J16) -> 327.47774 | K17: =SUM(K8:K16) -> 353.38724 | L17: =SUM(L8:L16) -> 377.66003 | M17: =SUM(M8:M16) -> 406.76633
A18: Less:
B19: Investment income included in above:
B20: Interest income on fixed income securities | E20: 17.04 | F20: 65.77 | G20: 275.05 | H20: 306.83 | I20: 0 | J20: 0 | K20: 0 | L20: 0 | M20: 0
B21: Interest income on fixed deposits | E21: 28.9 | F21: 17.87 | G21: 36.42 | H21: 55.35 | I21: 0 | J21: 0 | K21: 0 | L21: 0 | M21: 0
B22: Interest income on exchange traded funds | E22: 0 | F22: 76.85 | G22: 204.68 | H22: 295.12 | I22: 0 | J22: 0 | K22: 0 | L22: 0 | M22: 0
B23: Interest income on fixed maturity plans | E23: 903.55 | F23: 842.51 | G23: 388.93 | H23: 180.55 | I23: 0 | J23: 0 | K23: 0 | L23: 0 | M23: 0
B24: Profit on sale of other investments, net | E24: 19.53 | F24: 15.74 | G24: 110.62 | H24: 136.54 | I24: 0 | J24: 0 | K24: 0 | L24: 0 | M24: 0
B25: Gain on valuation and realisation of mutual funds measured at fair value through profit or loss | E25: 462.7 | F25: 254.25 | G25: 188.75 | H25: 59.32 | I25: 0 | J25: 0 | K25: 0 | L25: 0 | M25: 0
B26: Dividend income on other strategic investments | E26: 25.38 | F26: 0 | G26: 45.5 | H26: 47.25 | I26: 0 | J26: 0 | K26: 0 | L26: 0 | M26: 0
B27: Amortisation of premium/discount on acquisition of fixed income securities | E27: 18.24 | F27: -5.57 | G27: -17.67 | H27: -10.63 | I27: 0 | J27: 0 | K27: 0 | L27: 0 | M27: 0
E28: =SUM(E20:E27) -> 1475.34 | F28: =SUM(F20:F27) -> 1267.42 | G28: =SUM(G20:G27) -> 1232.28 | H28: =SUM(H20:H27) -> 1070.33 | I28: =SUM(I20:I27) -> 0 | J28: =SUM(J20:J27) -> 0 | K28: =SUM(K20:K27) -> 0 | L28: =SUM(L20:L27) -> 0 | M28: =SUM(M20:M27) -> 0
B29: Share of profits of associate | E29: 321.51 | F29: 306.32 | G29: 579.53 | H29: 401.44 | I29: ='Income Statement'!I19 -> 401.44 | J29: ='Income Statement'!J19 -> 421.512 | K29: ='Income Statement'!K19 -> 434.15736 | L29: ='Income Statement'!L19 -> 447.18208 | M29: ='Income Statement'!M19 -> 460.59754
B30: Government grants | E30: 0.54 | F30: 2.65 | G30: 2.65 | H30: 2.65 | I30: 0 | J30: 0 | K30: 0 | L30: 0 | M30: 0
B31: Exceptional item | E31: 2.65 | F31: 0 | G31: 816.51 | H31: 315.28 | I31: 0 | J31: 0 | K31: 0 | L31: 0 | M31: 0
B32: Surplus on sale of property, plant and equipment | E32: 5.28 | F32: 1.94 | G32: 21.59 | H32: 128.02 | I32: 0 | J32: 0 | K32: 0 | L32: 0 | M32: 0
E33: =-(E28+SUM(E29:E32)) -> -1805.32 | F33: =-(F28+SUM(F29:F32)) -> -1578.33 | G33: =-(G28+SUM(G29:G32)) -> -2652.56 | H33: =-(H28+SUM(H29:H32)) -> -1917.72 | I33: =-(I28+SUM(I29:I32)) -> -401.44 | J33: =-(J28+SUM(J29:J32)) -> -421.512 | K33: =-(K28+SUM(K29:K32)) -> -434.15736 | L33: =-(L28+SUM(L29:L32)) -> -447.18208 | M33: =-(M28+SUM(M29:M32)) -> -460.59754
A34: Operating profit before working capital changes | E34: =E5+E17+E33 -> 5162.57 | F34: =F5+F17+F33 -> 4960.56 | G34: =G5+G17+G33 -> 5299.82 | H34: =H5+H17+H33 -> 5896.47 | I34: =I5+I17+I33 -> 8765.3387 | J34: =J5+J17+J33 -> 11534.508 | K34: =K5+K17+K33 -> 13067.4 | L34: =L5+L17+L33 -> 14612.424 | M34: =M5+M17+M33 -> 16293.412
A35: Change in assets and liabilities
B36: (Increase)/decrease in inventories | E36: -101.99 | F36: -430.39 | G36: 263.38 | H36: -140.94 | I36: ='Balance Sheet'!H22-'Balance Sheet'!I22 -> -384.16356 | J36: ='Balance Sheet'!I22-'Balance Sheet'!J22 -> -128.76497 | K36: ='Balance Sheet'!J22-'Balance Sheet'!K22 -> -301.83538 | L36: ='Balance Sheet'!K22-'Balance Sheet'!L22 -> -296.49524 | M36: ='Balance Sheet'!L22-'Balance Sheet'!M22 -> -235.91534
B37: (Increase)/decrease in trade receivables | E37: 828.53 | F37: -1001.89 | G37: 1202.52 | H37: 108.04 | I37: ='Balance Sheet'!H25-'Balance Sheet'!I25 -> -639.89202 | J37: ='Balance Sheet'!I25-'Balance Sheet'!J25 -> -101.78745 | K37: ='Balance Sheet'!J25-'Balance Sheet'!K25 -> -286.77641 | L37: ='Balance Sheet'!K25-'Balance Sheet'!L25 -> -398.57839 | M37: ='Balance Sheet'!L25-'Balance Sheet'!M25 -> -245.21753
B38: (Increase)/decrease in loans and other assets | E38: 398.53 | F38: -551.88 | G38: 76.82 | H38: 63.66 | I38: =(SUM('Balance Sheet'!H28:H30)-SUM('Balance Sheet'!I28:I30))+(SUM('Balance Sheet'!H13:H18)-SUM('Balance Sheet'!I13:I18)) -> 0 | J38: =(SUM('Balance Sheet'!I28:I30)-SUM('Balance Sheet'!J28:J30))+(SUM('Balance Sheet'!I13:I18)-SUM('Balance Sheet'!J13:J18)) -> 0 | K38: =(SUM('Balance Sheet'!J28:J30)-SUM('Balance Sheet'!K28:K30))+(SUM('Balance Sheet'!J13:J18)-SUM('Balance Sheet'!K13:K18)) -> 0 | L38: =(SUM('Balance Sheet'!K28:K30)-SUM('Balance Sheet'!L28:L30))+(SUM('Balance Sheet'!K13:K18)-SUM('Balance Sheet'!L13:L18)) -> 0 | M38: =(SUM('Balance Sheet'!L28:L30)-SUM('Balance Sheet'!M28:M30))+(SUM('Balance Sheet'!L13:L18)-SUM('Balance Sheet'!M13:M18)) -> 0
B39: Increase/(decrease) in liabilities and provisions | E39: -759.28 | F39: 1483.52 | G39: -943.47 | H39: 148.21 | I39: =(SUM('Balance Sheet'!I53:I58)-SUM('Balance Sheet'!H53:H58))+(SUM('Balance Sheet'!I44:I48)-SUM('Balance Sheet'!H44:H48)) -> 409.51778 | J39: =(SUM('Balance Sheet'!J53:J58)-SUM('Balance Sheet'!I53:I58))+(SUM('Balance Sheet'!J44:J48)-SUM('Balance Sheet'!I44:I48)) -> 142.21837 | K39: =(SUM('Balance Sheet'!K53:K58)-SUM('Balance Sheet'!J53:J58))+(SUM('Balance Sheet'!K44:K48)-SUM('Balance Sheet'!J44:J48)) -> 890.19645 | L39: =(SUM('Balance Sheet'!L53:L58)-SUM('Balance Sheet'!K53:K58))+(SUM('Balance Sheet'!L44:L48)-SUM('Balance Sheet'!K44:K48)) -> 567.86808 | M39: =(SUM('Balance Sheet'!M53:M58)-SUM('Balance Sheet'!L53:L58))+(SUM('Balance Sheet'!M44:M48)-SUM('Balance Sheet'!L44:L48)) -> 592.75891
A40: Net change in Working capital | E40: =SUM(E36:E39) -> 365.79 | F40: =SUM(F36:F39) -> -500.64 | G40: =SUM(G36:G39) -> 599.25 | H40: =SUM(H36:H39) -> 178.97 | I40: =SUM(I36:I39) -> -614.5378 | J40: =SUM(J36:J39) -> -88.334055 | K40: =SUM(K36:K39) -> 301.58465 | L40: =SUM(L36:L39) -> -127.20556 | M40: =SUM(M36:M39) -> 111.62604
...

Sheet Capex
A1: Capex Schedule
A2: (All numbers in Rs Crs unless specified)
A3: Particulars | E3: FY20 A | F3: FY21 A | G3: FY22 A | H3: LTM | I3: FY24 E | J3: FY25 E | K3: FY26 E | L3: FY27 E | M3: FY28E
A5: Total Revenue Volume | E5: ='Revenue Model'!E8+'Revenue Model'!E13 -> 4614058 | F5: ='Revenue Model'!F8+'Revenue Model'!F13 -> 3971531 | G5: ='Revenue Model'!G8+'Revenue Model'!G13 -> 4308309 | H5: ='Revenue Model'!H8+'Revenue Model'!H13 -> 3933478 | I5: ='Revenue Model'!I8+'Revenue Model'!I13 -> 4119296.4 | J5: ='Revenue Model'!J8+'Revenue Model'!J13 -> 4426835.5 | K5: ='Revenue Model'!K8+'Revenue Model'!K13 -> 4723828.7 | L5: ='Revenue Model'!L8+'Revenue Model'!L13 -> 4987254.7 | M5: ='Revenue Model'!M8+'Revenue Model'!M13 -> 5236617.4
A6: Total Installed Capacity per annum (in units crores) | E6: 6648000 | F6: 6648000 | G6: 6648000 | H6: 6648000 | I6: 6648000 | J6: 6648000 | K6: 6648000 | L6: 6648000 | M6: 6648000
A7: Capacity Utilization | I7: =I5/I6 -> 0.61962942 | J7: =J5/J6 -> 0.66588981 | K7: =K5/K6 -> 0.71056389 | L7: =L5/L6 -> 0.75018873 | M7: =M5/M6 -> 0.78769817
A9: Opening Gross Block | E9: 4196.35 | F9: 4021.28 | G9: 4181.79 | H9: =G12 -> 4468.71 | I9: =H12 -> 4796.64 | J9: =I12 -> 5146.64 | K9: =J12 -> 5496.64 | L9: =K12 -> 5896.64 | M9: =L12 -> 6321.64
B10: CAPEX | E10: =E12-E9+E16 -> 55.69 | F10: =F12-F9+F16 -> 392.66 | G10: =G12-G9+G16 -> 531.55 | H10: ='Balance Sheet'!H6-'Balance Sheet'!G6+'Income Statement'!H13 -> 327.93 | I10: 350 | J10: 350 | K10: 400 | L10: 425 | M10: 500
B11: Deductions/adjustments | E11: 344.98 | F11: 55.07 | G11: 171.7 | H11: 0 | I11: 0 | J11: 0 | K11: 0 | L11: 0 | M11: 0
A12: Closing Gross Block | E12: 4021.28 | F12: 4181.79 | G12: 4468.71 | H12: =H9+H10-H11 -> 4796.64 | I12: =I9+I10-I11 -> 5146.64 | J12: =J9+J10-J11 -> 5496.64 | K12: =K9+K10-K11 -> 5896.64 | L12: =L9+L10-L11 -> 6321.64 | M12: =M9+M10-M11 -> 6821.64
A14: Accumulated Depriciation
B15: Opening Balance | E15: 2507.66 | F15: 2419.25 | G15: 2613.84 | H15: =G18 -> 2709.11 | I15: =H18 -> 2983.95 | J15: =I18 -> 3271.7484 | K15: =J18 -> 3580.5468 | L15: =K18 -> 3910.3452 | M15: =L18 -> 4264.1436
B16: Current Year Depriciation | E16: 230.76 | F16: 232.15 | G16: 244.63 | H16: ='Income Statement'!H13 -> 274.84 | I16: =I9*Assumptions!I20 -> 287.7984 | J16: =J9*Assumptions!J20 -> 308.7984 | K16: =K9*Assumptions!K20 -> 329.7984 | L16: =L9*Assumptions!L20 -> 353.7984 | M16: =M9*Assumptions!M20 -> 379.2984
B17: Deductions | E17: 319.17 | F17: 37.56 | G17: 149.36 | H17: 0 | I17: 0 | J17: 0 | K17: 0 | L17: 0 | M17: 0
B18: Closing Balance | E18: =E15+E16-E17 -> 2419.25 | F18: =F15+F16-F17 -> 2613.84 | G18: =G15+G16-G17 -> 2709.11 | H18: =H15+H16-H17 -> 2983.95 | I18: =I15+I16-I17 -> 3271.7484 | J18: =J15+J16-J17 -> 3580.5468 | K18: =K15+K16-K17 -> 3910.3452 | L18: =L15+L16-L17 -> 4264.1436 | M18: =M15+M16-M17 -> 4643.442
B20: Net Block | E20: =E12-E18 -> 1602.03 | F20: =F12-F18 -> 1567.95 | G20: =G12-G18 -> 1759.6 | H20: =H12-H18 -> 1812.69 | I20: =I12-I18 -> 1874.8916 | J20: =J12-J18 -> 1916.0932 | K20: =K12-K18 -> 1986.2948 | L20: =L12-L18 -> 2057.4964 | M20: =M12-M18 -> 2178.198

Sheet Investment
A2: Particulars | D2: Percentage of ownership | E2: Number of Share | F2: Equity value
A3: Investment in subsidiaries
B5: Bajaj Auto International Holding B V Amsterdam, Netherlands | D5: 1 | E5: 1980000 | F5: 1218.72
B6: Bajaj Auto (Thailand) Ltd | D6: 1 | E6: 449997 | F6: 10.54
B7: PT Bajaj Auto Indonesia | E7: 411875 | F7: 6.17
B8: Less: Provision for diminution in the value of Investment | F8: -2.17
B9: Chetak Technology Ltd | D9: 1 | E9: 5000000 | F9: 5
B10: Bajaj Auto Consumer Finance Ltd | D10: 1 | E10: 5000000 | F10: 5
B11: Bajaj Auto Spain S.L. | D11: 1 | E11: 6000 | F11: 5.17
F12: =SUM(F5:F11) -> 1248.43
A14: Other Investments
A15: Investment carried at Fair Value through OCI
B16: In Equities:
B17: Bajaj Holdings & Investments Ltd. | D17: 3500000 | F17: 1753.87
B18: Yulu Bikes Private Ltd. | C18: Compulsorily Convertible Preference Shares | D18: 17495 | F18: 144.21
F19: =SUM(F17:F18) -> 1898.08
A20: Investment carried at amortised cost | E20: Non Current | F20: Current
B21: In Bonds and debentures: | E21: 3583.73 | F21: 250.93
C22: In Government Bonds and securities | E22: 857.47 | F22: 0
C23: In Fixed Deposits: | E23: 1115 | F23: 107.84
C24: In Fixed maturity plans | E24: 755.11 | F24: 3903.65
C25: In Exchange Traded Funds | E25: 5515.81 | F25: 0
E26: =SUM(E21:E25) -> 11827.12 | F26: =SUM(F21:F25) -> 4262.42
A27: Investment carried at fair value through profit or loss | E27: =SUM(E26) -> 11827.12 | F27: =SUM(F26) -> 4262.42
C28: In Short-term mutual funds | E28: 3089.61 | F28: 0
C29: In Long duration bond funds | E29: 786.39 | F29: 0
C30: In Liquid and overnight mutual funds | E30: 0 | F30: 814.55
E31: =SUM(E28:E30) -> 3876 | F31: =SUM(F28:F30) -> 814.55
E33: =E31+E26 -> 15703.12 | F33: =F31+F26 -> 5076.97
