Workbook
Name UPDATE: '[1]Data Sheet'!$E$1

Sheet Sheet1
B2: State's share in Milk sales in terms of volume for Q2FY23(Indian Business)
D3: Sold | E3: Procurement
B4: India
C5: AP | D5: 442000 | E5: 480000 | F5: =D5/D11 -> 0.31459075
C6: Karnataka | D6: 530000 | E6: 270000 | F6: =D6/D11 -> 0.3772242
C7: Tamil Nadu | D7: 210000 | E7: 440000
C8: Telangana | D8: 130000 | E8: 40000
C9: Maharashtra | D9: 0 | E9: 110000
B10: Africa | D10: 93000 | E10: NA
D11: =SUM(D5:D10) -> 1405000 | E11: =SUM(E5:E10) -> 1340000
B13: Net Sales realization | D13: Q2FY23 | E13: Q1FY23 | F13: Q2FY22
D14: 52.75 | E14: 51.78 | F14: 49.36
C17: Orgafeed | D17: Revenue | E17: EBITDA | F17: EBITDA Margin
C18: H1FY23 | D18: 28 | E18: 3 | F18: =E18/D18 -> 0.10714286
D21: MTPD
C22: Curd (MTPD) | D22: 292 | F22: 252
C23: Curd | D23: 125 cr | G23: 15-16% EBITDA Margin
C24: Ice Cream | D24: 3000 LPD | F24: 1800 LPD
D25: 4.44 | F25: 2.7
C26: VAP(Inluding fats and fats based products) | D26: 173 cr | F26: 145cr

Sheet Valuation
B1: Valuation | C1: Data as on 26.12.22
F2: ='Income Statement'!F2 -> FY19 A | G2: ='Income Statement'!G2 -> FY20 A | H2: ='Income Statement'!H2 -> FY21 A | I2: ='Income Statement'!I2 -> FY22 A
B3: Riskfree rate(10Y Gsec) | E3: 0.0733
B4: Beta(372 days daily beta) | E4: =[2]Beta!$D$5 -> 0.35705809
B5: Market return(20Y returns Nifty Source: Groww) | E5: 0.1517
B6: CAPM | E6: =E3+(E4*(E5-E3)) -> 0.10129335
B7: Cost of debt | C7: Assumed | E7: 0.1
B8: Tax rate | E8: 0.25
B9: Target: Debt ratio | E9: 0
B10: Terminal Growth rate | E10: 0.04
B11: WACC | E11: =E7*(1-E8)*E9+E6*(1-E9) -> 0.10129335
J13: ='Income Statement'!J2 -> FY23 E | K13: ='Income Statement'!K2 -> FY24 E | L13: Terminal Cashflow
B14: FCFF | F14: ='Cashflow statement'!F30+(-'Cashflow statement'!F56*(1-0.34))-ABS('Cashflow statement'!F33) -> 45.0981 | G14: ='Cashflow statement'!G30+(-'Cashflow statement'!G56*(1-0.34))-ABS('Cashflow statement'!G33) -> 79.61336 | H14: ='Cashflow statement'!H30+(-'Cashflow statement'!H56*(1-0.34))-ABS('Cashflow statement'!H33) -> 194.94102 | I14: ='Cashflow statement'!I30+(-'Cashflow statement'!I56*(1-0.34))-ABS('Cashflow statement'!I33) -> 103.08264 | J14: ='Cashflow statement'!J30+(-'Cashflow statement'!J56*(1-0.34))-ABS('Cashflow statement'!J33) -> 142.63193 | K14: ='Cashflow statement'!K30+(-'Cashflow statement'!K56*(1-0.34))-ABS('Cashflow statement'!K33) -> 176.16625 | L14: =K14*(1+E10)/(E11-E10) -> 2989.1152
B15: Discount Factor | J15: =1/(1+E11)^(1/4) -> 0.97616728 | K15: =1/(1+E11)^(5/4) -> 0.88638261 | L15: =K15 -> 0.88638261
B16: PV of Cashflow | J16: =J14*J15 -> 139.23262 | K16: =K14*K15 -> 156.1507 | L16: =L14*L15 -> 2649.4998
B19: Enterprise Value | E19: =SUM(J16:L16) -> 2944.8831
B20: Less : Total Debt | E20: 0
B21: Add : Cash | E21: ='Balance sheet'!I27+'Balance sheet'!I28 -> 131.849
B22: Equity Value | E22: =SUM(E19:E21) -> 3076.7321
B23: Share Capital | E23: ='Balance sheet'!I38 -> 59.493
B24: Face Value | E24: 10
B25: No of Shares | E25: 59492735
B26: Share Price | E26: =(E22*10^7)/E25 -> 517.16097
B28: =DATE(2023,1,3) -> 44929 | E28: 506

Sheet About company
A1: Revenue of India’s organised dairy industry will rebound a solid 12% on-year this fiscal FY22 to Rs 1.6 lakh crore, compared with a decadal low growth of ~1% last fiscal,FY21
A2: Steady demand for both VAP (around one-third share of organised sector sales) and liquid milk (around two-thirds share) is likely to lead to 5-6% growth next fiscal, too, in line with the pre-pandemic trend.
A3: Operating profitability, however, will be set back to the pre-pandemic level of 5-5.5% in the next two fiscals — from the peak of 6% seen in fiscal 2021 — because of high raw milk prices, along with higher transportation and packaging costs, and despite dairies increasing retail product prices by 3-4% across categories this year.
A4: Dairies convert liquid milk into skimmed milk powder (SMP) for use in the lean season, when milk supplies decline
A5: SMP can be reconverted into liquid milk or VAP and has a shelf life of 12-18 months.
A6: (HORECA segment, accounting for ~20% of organised sector sales)
A7: Hotel restaurant and cafes
A8: peak summer season for ice-creams (14% of overall VAP sales)
A9: Flush season refers to the peak period of raw milk supply, which is generally from December to mid-March every year.
A10: debt metrics such as gearing and interest coverage ratio2 to remain comfortable at 1.2 times and 6.5 times, respectively, in the near term.
A11: Interest coverage continues to be supported by interest subvention of up to 4% on working capital loans to dairy cooperatives. This scheme has been extended till March 31, 2026.
A13: https://www.crisil.com/en/home/newsroom/press-releases/2022/02/organised-dairies-to-scoop-12-percent-revenue-growth-this-fiscal.html
... A37: 194 claves and 270 cattles as of 31 march 22 and 137 sold
A39: Shares | B39: 59492735

Sheet Assumptions
A1: Assumptions
A2: (All numbers in Rs Crs unless specified) | E2: FY18 A | F2: FY19 A | G2: FY20 A | H2: FY21 A | I2: FY22 A | J2: FY23 E | K2: FY24 E
A4: P & L Assumptions
B6: Revenue growth YOY | D6: explicit | F6: =('Income Statement'!F5/'Income Statement'!E5)-1 -> 0.063627533 | G6: =('Income Statement'!G5/'Income Statement'!F5)-1 -> 0.26464926 | H6: =('Income Statement'!H5/'Income Statement'!G5)-1 -> -0.091319746 | I6: =('Income Statement'!I5/'Income Statement'!H5)-1 -> 0.15398358 | J6: 0.14 | K6: 0.13
B7: ='Income Statement'!B6 & " as a % of sales" -> Other income as a % of sales | D7: Average | F7: ='Income Statement'!F6/'Income Statement'!F5 -> 0.0046025443 | G7: ='Income Statement'!G6/'Income Statement'!G5 -> 0.0029335698 | H7: ='Income Statement'!H6/'Income Statement'!H5 -> 0.0032757101 | I7: ='Income Statement'!I6/'Income Statement'!I5 -> 0.0061082728 | J7: =AVERAGE(F7:I7) -> 0.0042300243 | K7: =AVERAGE(G7:J7) -> 0.0041368942
B9: ='Income Statement'!B10&" as a % of sales" -> Cost of materials consumed as a % of sales | D9: Average | F9: ='Income Statement'!F10/'Income Statement'!F5 -> 0.73448888 | G9: ='Income Statement'!G10/'Income Statement'!G5 -> 0.73997241 | H9: ='Income Statement'!H10/'Income Statement'!H5 -> 0.70277561 | I9: ='Income Statement'!I10/'Income Statement'!I5 -> 0.72542103 | J9: =AVERAGE(F9:I9) -> 0.72566448 | K9: =AVERAGE(G9:J9) -> 0.72345838
B10: ='Income Statement'!B11 &" as a % of sales" -> Changes in inventories of finished goods, stock in trade and WIP as a % of sales | D10: Average | F10: ='Income Statement'!F11/'Income Statement'!F5 -> 0.0083195748 | G10: ='Income Statement'!G11/'Income Statement'!G5 -> 0.026877501 | H10: ='Income Statement'!H11/'Income Statement'!H5 -> -0.0078538852 | I10: ='Income Statement'!I11/'Income Statement'!I5 -> -0.00053714287 | J10: =AVERAGE(F10:I10) -> 0.0067015119 | K10: =AVERAGE(G10:J10) -> 0.0062969962
B11: ='Income Statement'!B12 &" as a % of sales" -> Employee benefits expense as a % of sales | D11: Average | F11: ='Income Statement'!F12/'Income Statement'!F5 -> 0.045316678 | G11: ='Income Statement'!G12/'Income Statement'!G5 -> 0.042589581 | H11: ='Income Statement'!H12/'Income Statement'!H5 -> 0.046192759 | I11: ='Income Statement'!I12/'Income Statement'!I5 -> 0.045653132 | J11: =AVERAGE(F11:I11) -> 0.044938037 | K11: =AVERAGE(G11:J11) -> 0.044843377
B12: ='Income Statement'!B13 -> Finance costs | D12: explicit | F12: ='Income Statement'!E13/'Income Statement'!E5 -> 0.0068470111 | G12: ='Income Statement'!F13/'Income Statement'!F5 -> 0.0068364276 | H12: ='Income Statement'!G13/'Income Statement'!G5 -> 0.007543799 | I12: ='Income Statement'!H13/'Income Statement'!H5 -> 0.0061172651 | J12: 0.0055 | K12: 0.0055
B13: ='Income Statement'!B15 &" as a % of sales" -> Other expenses as a % of sales | D13: Average | F13: ='Income Statement'!F15/'Income Statement'!F5 -> 0.13257349 | G13: ='Income Statement'!G15/'Income Statement'!G5 -> 0.12468793 | H13: ='Income Statement'!H15/'Income Statement'!H5 -> 0.13416008 | I13: ='Income Statement'!I15/'Income Statement'!I5 -> 0.1355285 | J13: =AVERAGE(F13:I13) -> 0.1317375 | K13: =AVERAGE(G13:J13) -> 0.1315285
B14: ='Income Statement'!B21 & " as a % of PBT" -> Current tax as a % of PBT | F14: ='Income Statement'!F21/'Income Statement'!F18 -> 0.2553066 | G14: ='Income Statement'!G21/'Income Statement'!G18 -> 0.25815002 | H14: ='Income Statement'!H21/'Income Statement'!H18 -> 0.27669481 | I14: ='Income Statement'!I21/'Income Statement'!I18 -> 0.26250906 | J14: =AVERAGE(F14:I14) -> 0.26316512 | K14: =AVERAGE(G14:J14) -> 0.26512975
B15: ='Income Statement'!B22 & " as a % of PBT" -> Deferred tax as a % of PBT | F15: ='Income Statement'!E22/'Income Statement'!E18 -> 0.061934361 | G15: ='Income Statement'!F22/'Income Statement'!F18 -> 0.071858919 | H15: ='Income Statement'!G22/'Income Statement'!G18 -> 0.13270877 | I15: ='Income Statement'!H22/'Income Statement'!H18 -> 0.04683271 | J15: =AVERAGE(F15:I15) -> 0.078333691 | K15: =AVERAGE(G15:J15) -> 0.082433524
A17: Balance sheet assumptions
A18: Assets
B19: Non Current
B20: ='Balance sheet'!B9 & " as a % of net block" -> Other intangible assets as a % of net block | D20: Average - Includes software, brands and Non-compete | F20: ='Balance sheet'!F9/'Balance sheet'!F6 -> 0.029632109 | G20: ='Balance sheet'!G9/'Balance sheet'!G6 -> 0.020457759 | H20: ='Balance sheet'!H9/'Balance sheet'!H6 -> 0.013118095 | I20: ='Balance sheet'!I9/'Balance sheet'!I6 -> 0.0083715225 | J20: =AVERAGE(F20:I20) -> 0.017894871 | K20: =AVERAGE(G20:J20) -> 0.014960562
B21: ='Balance sheet'!C11 & " as a % of net block" -> Matured biological assets as a % of net block | F21: ='Balance sheet'!F11/'Balance sheet'!F6 -> 0.0045659469 | G21: ='Balance sheet'!G11/'Balance sheet'!G6 -> 0.0041284613 | H21: ='Balance sheet'!H11/'Balance sheet'!H6 -> 0.0037633053 | I21: ='Balance sheet'!I11/'Balance sheet'!I6 -> 0.0031094781 | J21: =AVERAGE(F21:I21) -> 0.0038917979 | K21: =AVERAGE(G21:J21) -> 0.0037232606
B22: ='Balance sheet'!C12 & " as a % of net block" -> Immatured biological assets as a % of net block | F22: ='Balance sheet'!F12/'Balance sheet'!F6 -> 0.0014185466 | G22: ='Balance sheet'!G12/'Balance sheet'!G6 -> 0.0011466796 | H22: ='Balance sheet'!H12/'Balance sheet'!H6 -> 0.0016788579 | I22: ='Balance sheet'!I12/'Balance sheet'!I6 -> 0.0011529525 | J22: =AVERAGE(F22:I22) -> 0.0013492592 | K22: =AVERAGE(G22:J22) -> 0.0013319373
B23: ='Balance sheet'!C16 & " as a % of net block" -> Other financial assets as a % of net block | F23: ='Balance sheet'!F16/'Balance sheet'!F6 -> 0.01882899 | G23: ='Balance sheet'!G16/'Balance sheet'!G6 -> 0.019435494 | H23: ='Balance sheet'!H16/'Balance sheet'!H6 -> 0.019998991 | I23: ='Balance sheet'!I16/'Balance sheet'!I6 -> 0.024340109 | J23: 0.0243 | K23: 0.028
B24: ='Balance sheet'!B18 & " as a % of net block" -> Deferred tax assets as a % of net block | F24: ='Balance sheet'!F18/'Balance sheet'!F6 -> 0.00069154147 | G24: ='Balance sheet'!G18/'Balance sheet'!G6 -> 4.3544795e-05 | H24: ='Balance sheet'!H18/'Balance sheet'!H6 -> 0.0001493215 | I24: ='Balance sheet'!I18/'Balance sheet'!I6 -> 6.5993917e-05 | J24: =AVERAGE(F24:I24) -> 0.00023760042 | K24: =AVERAGE(G24:J24) -> 0.00012411516
B25: ='Balance sheet'!B19 & " as a % of net block" -> Other Non current assets as a % of net block | F25: ='Balance sheet'!F19/'Balance sheet'!F6 -> 0.024744772 | G25: ='Balance sheet'!G19/'Balance sheet'!G6 -> 0.018324065 | H25: ='Balance sheet'!H19/'Balance sheet'!H6 -> 0.0023528225 | I25: ='Balance sheet'!I19/'Balance sheet'!I6 -> 0.086207465 | J25: =AVERAGE(F25:I25) -> 0.032907281 | K25: =AVERAGE(G25:J25) -> 0.034947908
B26: Current
B27: Inventory Turnover | F27: ='Ratio analysis'!F33/AVERAGE('Balance sheet'!E23:F23) -> 10.38944 | G27: ='Ratio analysis'!G33/AVERAGE('Balance sheet'!F23:G23) -> 13.593385 | H27: ='Ratio analysis'!H33/AVERAGE('Balance sheet'!G23:H23) -> 13.156632 | I27: ='Ratio analysis'!I33/AVERAGE('Balance sheet'!H23:I23) -> 15.606745 | J27: =365/J28 -> 12.907434 | K27: =365/K28 -> 13.73994
B28: Inventory #no of days | F28: =365/F27 -> 35.131827 | G28: =365/G27 -> 26.851295 | H28: =365/H27 -> 27.742663 | I28: =365/I27 -> 23.387323 | J28: =AVERAGE(F28:I28) -> 28.278277 | K28: =AVERAGE(G28:J28) -> 26.56489
B29: ='Balance sheet'!C25 & " as a % of net block" -> Investments as a % of net block | F29: ='Balance sheet'!F25/'Balance sheet'!F6 -> 0.040195848 | G29: ='Balance sheet'!G25/'Balance sheet'!G6 -> 0.023891578 | H29: ='Balance sheet'!H25/'Balance sheet'!H6 -> 0.12193513 | I29: ='Balance sheet'!I25/'Balance sheet'!I6 -> 0.24942401 | J29: =AVERAGE(F29:I29) -> 0.10886164 | K29: =AVERAGE(G29:J29) -> 0.12602809
B30: ='Balance sheet'!C26 & " Turnover" -> Trade receivables Turnover | F30: ='Income Statement'!F5/AVERAGE('Balance sheet'!E26:F26) -> 309.6034 | G30: ='Income Statement'!G5/AVERAGE('Balance sheet'!F26:G26) -> 294.55776 | H30: ='Income Statement'!H5/AVERAGE('Balance sheet'!G26:H26) -> 321.56248 | I30: ='Income Statement'!I5/AVERAGE('Balance sheet'!H26:I26) -> 464.79872 | J30: =365/J31 -> 336.52632 | K30: =365/K31 -> 344.00494
B31: Days sale outstanding | F31: =365/F30 -> 1.1789276 | G31: =365/G30 -> 1.2391458 | H31: =365/H30 -> 1.1350827 | I31: =365/I30 -> 0.78528616 | J31: =AVERAGE(F31:I31) -> 1.0846105 | K31: =AVERAGE(G31:J31) -> 1.0610313
B32: ='Balance sheet'!C29 & " as a % of net block" -> Loans as a % of net block | F32: ='Balance sheet'!F29/'Balance sheet'!F6 -> 0.034783206 | G32: ='Balance sheet'!G29/'Balance sheet'!G6 -> 0.0077986655 | H32: ='Balance sheet'!H29/'Balance sheet'!H6 -> 0.0071452353 | I32: ='Balance sheet'!I29/'Balance sheet'!I6 -> 0.00092585583 | J32: =AVERAGE(F32:I32) -> 0.012663241 | K32: =AVERAGE(G32:J32) -> 0.0071332493
B33: ='Balance sheet'!C30 & " as a % of net block" -> Other financial assets as a % of net block | F33: ='Balance sheet'!F30/'Balance sheet'!F6 -> 0.00050092427 | G33: ='Balance sheet'!G30/'Balance sheet'!G6 -> 0.001343668 | H33: ='Balance sheet'!H30/'Balance sheet'!H6 -> 0.00073046461 | I33: ='Balance sheet'!I30/'Balance sheet'!I6 -> 0.010394042 | J33: =AVERAGE(F33:I33) -> 0.0032422747 | K33: =AVERAGE(G33:J33) -> 0.0039276123
B34: Other current assets & " as a % of net block" | F34: ='Balance sheet'!F31/'Balance sheet'!F6 -> 0.040532753 | G34: ='Balance sheet'!G31/'Balance sheet'!G6 -> 0.022560351 | H34: ='Balance sheet'!H31/'Balance sheet'!H6 -> 0.024353529 | I34: ='Balance sheet'!I31/'Balance sheet'!I6 -> 0.021634359 | J34: =AVERAGE(F34:I34) -> 0.027270248 | K34: =AVERAGE(G34:J34) -> 0.023954622
A36: Liabilities
B37: Non Current
B38: ='Balance sheet'!C46 & " as a % of Net Block" -> lease liabilities as a % of Net Block | F38: ='Balance sheet'!F46/'Balance sheet'!F6 -> 0.016956065 | G38: ='Balance sheet'!G46/'Balance sheet'!G6 -> 0.014658007 | H38: ='Balance sheet'!H46/'Balance sheet'!H6 -> 0.020051455 | I38: ='Balance sheet'!I46/'Balance sheet'!I6 -> 0.019083888 | J38: =AVERAGE(F38:I38) -> 0.017687354 | K38: =AVERAGE(G38:J38) -> 0.017870176
B39: ='Balance sheet'!B47 & " as a % of net block" -> Provisions as a % of net block | F39: ='Balance sheet'!F47/'Balance sheet'!F6 -> 0.014407114 | G39: ='Balance sheet'!G47/'Balance sheet'!G6 -> 0.019680174 | H39: ='Balance sheet'!H47/'Balance sheet'!H6 -> 0.091752005 | I39: ='Balance sheet'!I47/'Balance sheet'!I6 -> 0.021108348 | J39: =AVERAGE(F39:I39) -> 0.03673691 | K39: =AVERAGE(G39:J39) -> 0.042319359
B40: ='Balance sheet'!B48 & " as a % of net block" -> Deferred tax liabilities as a % of net block | F40: ='Balance sheet'!F48/'Balance sheet'!F6 -> 0.057227273 | G40: ='Balance sheet'!G48/'Balance sheet'!G6 -> 0.075711957 | H40: ='Balance sheet'!H48/'Balance sheet'!H6 -> 0.0051556273 | I40: ='Balance sheet'!I48/'Balance sheet'!I6 -> 0.067144928 | J40: =AVERAGE(F40:I40) -> 0.051309947 | K40: =AVERAGE(G40:J40) -> 0.049830615
B41: Current
B42: ='Balance sheet'!C55 & " as a % of net block" -> lease liabilities as a % of net block | F42: ='Balance sheet'!F55/'Balance sheet'!F6 -> 0.0032028123 | G42: ='Balance sheet'!G55/'Balance sheet'!G6 -> 0.0054845706 | H42: ='Balance sheet'!H55/'Balance sheet'!H6 -> 0.0035554659 | I42: ='Balance sheet'!I55/'Balance sheet'!I6 -> 0.0059025736 | J42: =AVERAGE(F42:I42) -> 0.0045363556 | K42: =AVERAGE(G42:J42) -> 0.0048697414
B43: ='Balance sheet'!C56&" Turnover" -> Trade payables Turnover | F43: ='Ratio analysis'!F33/AVERAGE('Balance sheet'!E56:F56) -> 19.471204 | G43: ='Ratio analysis'!G33/AVERAGE('Balance sheet'!F56:G56) -> 21.641642 | H43: ='Ratio analysis'!H33/AVERAGE('Balance sheet'!G56:H56) -> 17.283283 | I43: ='Ratio analysis'!I33/AVERAGE('Balance sheet'!H56:I56) -> 17.895839 | J43: =365/J44 -> 18.930126 | K43: =365/K44 -> 18.799523
B44: Trade payables Days | F44: =365/F43 -> 18.74563 | G44: =365/G43 -> 16.865633 | H44: =365/H43 -> 21.118673 | I44: =365/I43 -> 20.395803 | J44: =AVERAGE(F44:I44) -> 19.281435 | K44: =AVERAGE(G44:J44) -> 19.415386
B45: ='Balance sheet'!C57 & " as a % of net block" -> other financial liabilities as a % of net block | F45: ='Balance sheet'!F57/'Balance sheet'!F6 -> 0.12602013 | G45: ='Balance sheet'!G57/'Balance sheet'!G6 -> 0.12676305 | H45: ='Balance sheet'!H57/'Balance sheet'!H6 -> 0.14627655 | I45: ='Balance sheet'!I57/'Balance sheet'!I6 -> 0.067055643 | J45: =AVERAGE(F45:I45) -> 0.11652884 | K45: =AVERAGE(G45:J45) -> 0.11415602
...

Sheet Income Statement
A1: Profit & Loss statement
A2: (All numbers in Rs Crs unless specified) | E2: FY18 A | F2: FY19 A | G2: FY20 A | H2: FY21 A | I2: FY22 A | J2: FY23 E | K2: FY24 E
A4: Income :
B5: Revenue from operations | E5: 1590.475 | F5: 1691.673 | G5: 2139.373 | H5: 1944.006 | I5: 2243.351 | J5: =I5*(1+Assumptions!J6) -> 2557.4201 | K5: =J5*(1+Assumptions!K6) -> 2889.8848
B6: Other income | E6: 6.538 | F6: 7.786 | G6: 6.276 | H6: 6.368 | I6: 13.703 | J6: =J5*Assumptions!J7 -> 10.817949 | K6: =K5*Assumptions!K7 -> 11.955148
B7: Total income | E7: =SUM(E5:E6) -> 1597.013 | F7: =SUM(F5:F6) -> 1699.459 | G7: =SUM(G5:G6) -> 2145.649 | H7: =SUM(H5:H6) -> 1950.374 | I7: =SUM(I5:I6) -> 2257.054 | J7: =SUM(J5:J6) -> 2568.2381 | K7: =SUM(K5:K6) -> 2901.8399
A9: Expenses :
B10: Cost of materials consumed | E10: 1274.426 | F10: 1242.515 | G10: 1583.077 | H10: 1366.2 | I10: 1627.374 | J10: =J5*Assumptions!J9 -> 1855.829 | K10: =K5*Assumptions!K9 -> 2090.7114
B11: Changes in inventories of finished goods, stock in trade and WIP | E11: -42.722 | F11: 14.074 | G11: 57.501 | H11: -15.268 | I11: -1.205 | J11: =J5*Assumptions!J10 -> 17.138582 | K11: =K5*Assumptions!K10 -> 18.197593
B12: Employee benefits expense | E12: 64.979 | F12: 76.661 | G12: 91.115 | H12: 89.799 | I12: 102.416 | J12: =J5*Assumptions!J11 -> 114.92544 | K12: =K5*Assumptions!K11 -> 129.59219
B13: Finance costs | E13: 10.89 | F13: 11.565 | G13: 16.139 | H13: 11.892 | I13: 6.518 | J13: =Assumptions!J12*'Income Statement'!J5 -> 14.065811 | K13: =Assumptions!K12*'Income Statement'!K5 -> 15.894366
B14: Depreciation and amortization expense | E14: 27.927 | F14: 37.093 | G14: 49.192 | H14: 50.727 | I14: 52.353 | J14: ='Asset Schedule'!J11 -> 55.968116 | K14: ='Asset Schedule'!K11 -> 59.31358
B15: Other expenses | E15: 181.073 | F15: 224.271 | G15: 266.754 | H15: 260.808 | I15: 304.038 | J15: =J5*Assumptions!J13 -> 336.90814 | K15: =K5*Assumptions!K13 -> 380.10222
B16: Total Expenses | E16: =SUM(E10:E15) -> 1516.573 | F16: =SUM(F10:F15) -> 1606.179 | G16: =SUM(G10:G15) -> 2063.778 | H16: =SUM(H10:H15) -> 1764.158 | I16: =SUM(I10:I15) -> 2091.494 | J16: =SUM(J10:J15) -> 2394.8351 | K16: =SUM(K10:K15) -> 2693.8113
B18: Profit before tax | E18: =E7-E16 -> 80.44 | F18: =F7-F16 -> 93.28 | G18: =G7-G16 -> 81.871 | H18: =H7-H16 -> 186.216 | I18: =I7-I16 -> 165.56 | J18: =J7-J16 -> 173.40303 | K18: =K7-K16 -> 208.0286
A20: Tax expenses
B21: Current tax | E21: 18.604 | F21: 23.815 | G21: 21.135 | H21: 51.525 | I21: 43.461 | J21: =J18*Assumptions!J14 -> 45.633631 | K21: =K18*Assumptions!K14 -> 55.15457
B22: Deferred tax | E22: 4.982 | F22: 6.703 | G22: 10.865 | H22: 8.721 | I22: -10.714 | J22: =J18*Assumptions!J15 -> 13.5833 | K22: =K18*Assumptions!K15 -> 17.14853
B23: Total Tax expenses | E23: =SUM(E21:E22) -> 23.586 | F23: =SUM(F21:F22) -> 30.518 | G23: =SUM(G21:G22) -> 32 | H23: =SUM(H21:H22) -> 60.246 | I23: =SUM(I21:I22) -> 32.747 | J23: =SUM(J21:J22) -> 59.21693 | K23: =SUM(K21:K22) -> 72.3031
B25: Profit for the year | E25: =E18-E23 -> 56.854 | F25: =F18-F23 -> 62.762 | G25: =G18-G23 -> 49.871 | H25: =H18-H23 -> 125.97 | I25: =I18-I23 -> 132.813 | J25: =J18-J23 -> 114.1861 | K25: =K18-K23 -> 135.7255

Sheet Balance sheet
A1: Balance Sheet
A2: (All numbers in Rs Crs unless specified) | E2: FY18 A | F2: FY19 A | G2: FY20 A | H2: FY21 A | I2: FY22 A | J2: FY23 E | K2: FY24 E
A4: Assets
A5: Non current assets
B6: Property, Plant and Equipment | E6: 326.188 | F6: 451.166 | G6: 482.262 | H6: 495.575 | I6: 515.199 | J6: ='Asset Schedule'!J15 -> 519.23088 | K6: ='Asset Schedule'!K15 -> 514.9173
B7: Capital work in progress | E7: 16.042 | F7: 11.22 | G7: 11.244 | H7: 8.283 | I7: 4.096 | J7: =I7 -> 4.096 | K7: =J7 -> 4.096
B8: Goodwill | E8: 0 | F8: 35.937 | G8: 44.17 | H8: 44.17 | I8: 44.17 | J8: =I8 -> 44.17 | K8: =J8 -> 44.17
B9: Other intangible assets | E9: 0.661 | F9: 13.369 | G9: 9.866 | H9: 6.501 | I9: 4.313 | J9: =J6*Assumptions!J20 -> 9.2915699 | K9: =K6*Assumptions!K20 -> 7.7034523
B10: Biological Assets other than bearer plants
C11: Matured biological assets | E11: 2.034 | F11: 2.06 | G11: 1.991 | H11: 1.865 | I11: 1.602 | J11: =Assumptions!J21*'Balance sheet'!J6 -> 2.0207417 | K11: =Assumptions!K21*'Balance sheet'!K6 -> 1.9171713
C12: Immatured biological assets | E12: 0.765 | F12: 0.64 | G12: 0.553 | H12: 0.832 | I12: 0.594 | J12: =Assumptions!J22*'Balance sheet'!J6 -> 0.70057703 | K12: =Assumptions!K22*'Balance sheet'!K6 -> 0.68583757
B13: Financial assets
C14: Investments | E14: 7.11 | F14: 7.863 | G14: 0.342 | H14: 0 | I14: 55.847 | J14: =I14 -> 55.847 | K14: =J14 -> 55.847
C15: Loans | E15: 9.019 | F15: 0 | G15: 0 | H15: 0 | I15: 0 | J15: 0 | K15: 0
C16: Other financial assets | E16: 5.805 | F16: 8.495 | G16: 9.373 | H16: 9.911 | I16: 12.54 | J16: =J6*Assumptions!J23 -> 12.61731 | K16: =K6*Assumptions!K23 -> 14.417685
B17: Other tax assets | E17: 4.619 | F17: 3.648 | G17: 8.758 | H17: 1.96 | I17: 2.55 | J17: =I17 -> 2.55 | K17: =J17 -> 2.55
B18: Deferred tax assets | E18: 1.875 | F18: 0.312 | G18: 0.021 | H18: 0.074 | I18: 0.034 | J18: =I18 -> 0.034 | K18: =J18 -> 0.034
B19: Other Non current assets | E19: 8.59 | F19: 11.164 | G19: 8.837 | H19: 1.166 | I19: 44.414 | J19: =Assumptions!J25*'Balance sheet'!J6 -> 17.086477 | K19: =Assumptions!K25*'Balance sheet'!K6 -> 17.995283
B20: Total Non current assets | E20: =SUM(E6:E19) -> 382.708 | F20: =SUM(F6:F19) -> 545.874 | G20: =SUM(G6:G19) -> 577.417 | H20: =SUM(H6:H19) -> 570.337 | I20: =SUM(I6:I19) -> 685.359 | J20: =SUM(J6:J19) -> 667.64456 | K20: =SUM(K6:K19) -> 664.33373
A22: Current Assets
B23: Inventories | E23: 134.083 | F23: 124.853 | G23: 120.17 | H23: 96.172 | I23: 120.985 | J23: ='Income Statement'!J10/Assumptions!J27 -> 143.77985 | K23: ='Income Statement'!K10/Assumptions!K27 -> 152.16306
B24: Financial assets
C25: Investments | E25: 59.849 | F25: 18.135 | G25: 11.522 | H25: 60.428 | I25: 128.503 | J25: =I25 -> 128.503 | K25: =J25 -> 128.503
C26: Trade receivables | E26: 3.605 | F26: 7.323 | G26: 7.203 | H26: 4.888 | I26: 4.765 | J26: ='Income Statement'!J5/Assumptions!J30 -> 7.5994654 | K26: ='Income Statement'!K5/Assumptions!K30 -> 8.4007072
C27: Cash and cash equivalents | E27: 13.917 | F27: 21.448 | G27: 68.673 | H27: 124.144 | I27: 109.894 | J27: ='Cashflow statement'!J62 -> 229.17668 | K27: ='Cashflow statement'!K62 -> 378.95829
C28: Other Bank balances | E28: 0.07 | F28: 0.082 | G28: 0.034 | H28: 100.304 | I28: 21.955 | J28: =I28 -> 21.955 | K28: =J28 -> 21.955
C29: Loans | E29: 6.7 | F29: 15.693 | G29: 3.761 | H29: 3.541 | I29: 0.477 | J29: =Assumptions!J32*'Balance sheet'!J6 -> 6.5751457 | K29: =Assumptions!K32*'Balance sheet'!K6 -> 3.6730335
C30: Other financial assets | E30: 0.163 | F30: 0.226 | G30: 0.648 | H30: 0.362 | I30: 5.355 | J30: =Assumptions!J33*'Balance sheet'!J6 -> 1.6834892 | K30: =Assumptions!K33*'Balance sheet'!K6 -> 2.0223955
B31: Other current assets | E31: 7.869 | F31: 18.287 | G31: 10.88 | H31: 12.069 | I31: 11.146 | J31: =Assumptions!J34*'Balance sheet'!J6 -> 14.159555 | K31: =Assumptions!K34*'Balance sheet'!K6 -> 12.334649
B32: Total Current assets | E32: =SUM(E23:E31) -> 226.256 | F32: =SUM(F23:F31) -> 206.047 | G32: =SUM(G23:G31) -> 222.891 | H32: =SUM(H23:H31) -> 401.908 | I32: =SUM(I23:I31) -> 403.08 | J32: =SUM(J23:J31) -> 553.43219 | K32: =SUM(K23:K31) -> 708.01013
B34: Total Assets | E34: =E20+E32 -> 608.964 | F34: =F20+F32 -> 751.921 | G34: =G20+G32 -> 800.308 | H34: =H20+H32 -> 972.245 | I34: =I20+I32 -> 1088.439 | J34: =J20+J32 -> 1221.0768 | K34: =K20+K32 -> 1372.3439
A36: Equity and Liabilities
A37: Equity
B38: Equity share capital | E38: 3.275 | F38: 55.672 | G38: 55.672 | H38: 58.325 | I38: 59.493 | J38: =I38 -> 59.493 | K38: =J38 -> 59.493
B39: Other equity | E39: 336.257 | F39: 350.701 | G39: 377.824 | H39: 599.645 | I39: 783.668 | J39: =I39+'Income Statement'!J25 -> 897.8541 | K39: =J39+'Income Statement'!K25 -> 1033.5796
B40: Total equity | E40: =E39+E38 -> 339.532 | F40: =F39+F38 -> 406.373 | G40: =G39+G38 -> 433.496 | H40: =H39+H38 -> 657.97 | I40: =I39+I38 -> 843.161 | J40: =J39+J38 -> 957.3471 | K40: =K39+K38 -> 1093.0726
A42: Liabilities
A43: Non current liabilities
B44: Financial liabilities
C45: Borrowings | E45: 22.25 | F45: 110.238 | G45: 86.725 | H45: 52.967 | I45: 0 | J45: 0 | K45: 0
...

Sheet Cashflow statement
A1: Cashflow statement
A2: (All numbers in Rs Crs unless specified) | E2: FY18 A | F2: FY19 A | G2: FY20 A | H2: FY21 A | I2: FY22 A | J2: FY23 E | K2: FY24 E
A3: Cash flows from operating activities
A4: Profit before tax | E4: 80.44 | F4: 93.28 | G4: 81.871 | H4: 186.216 | I4: 165.56 | J4: ='Income Statement'!J18 -> 173.40303 | K4: ='Income Statement'!K18 -> 208.0286
B5: Adjustments for:
B6: Depreciation and amortisation expense | E6: 27.927 | F6: 37.093 | G6: 49.192 | H6: 50.727 | I6: 52.353 | J6: ='Income Statement'!J14 -> 55.968116 | K6: ='Income Statement'!K14 -> 59.31358
B7: Changes in fair valuation of biological assets | E7: -0.982 | F7: -0.416 | G7: -0.208 | H7: -0.922 | I7: -0.204 | J7: 0 | K7: 0
B8: Loss on sale/ retirement of property, plant and equipment, net | E8: 0.619 | F8: 0.57 | G8: 1.023 | H8: 0.38 | I8: 0.208 | J8: 0 | K8: 0
B9: Loss on sale/ discard of biological assets, net | E9: 0.367 | F9: 0.178 | G9: 0.144 | H9: 0.431 | I9: 0.353 | J9: 0 | K9: 0
B10: Interest income | E10: -0.331 | F10: -0.485 | G10: -0.687 | H10: -3.053 | I10: -6.765 | J10: 0 | K10: 0
B11: Finance costs | E11: 10.89 | F11: 11.565 | G11: 16.139 | H11: 11.892 | I11: 6.518 | J11: ='Income Statement'!J13 -> 14.065811 | K11: ='Income Statement'!K13 -> 15.894366 | N11: -
B12: Dividend income from investment in Mutual Funds | E12: -0.39 | F12: 0 | G12: 0 | H12: 0 | I12: 0 | J12: 0 | K12: 0
B13: Employee share based payment expense | E13: 0.06 | F13: 1.834 | G13: 0.762 | H13: 0.342 | I13: 0.069 | J13: 0 | K13: 0
B14: Profit on sale of current investments in mutual fund, net | E14: -0.082 | F14: -2.995 | G14: -2.368 | H14: -0.057 | I14: -2.452 | J14: 0 | K14: 0
B15: Fair value loss on financial assets measured at fair value through profit and loss, net | E15: -3.251 | F15: -0.721 | G15: -0.979 | H15: -0.343 | I15: -1.718 | J15: 0 | K15: 0
B16: Provision for impairment of receivables, advances and other assets, net | E16: 0 | F16: 0 | G16: 0 | H16: 0.17 | I16: 1.011 | J16: 0 | K16: 0
B17: Government grant income | E17: -0.432 | F17: -0.308 | G17: -0.296 | H17: -0.288 | I17: -0.291 | J17: 0 | K17: 0
B18: Unrealised foreign exchange gain, net | E18: -0.034 | F18: 0 | G18: 0 | H18: 0 | I18: 0 | J18: 0 | K18: 0
E19: =SUM(E4:E18) -> 114.801 | F19: =SUM(F4:F18) -> 139.595 | G19: =SUM(G4:G18) -> 144.593 | H19: =SUM(H4:H18) -> 245.495 | I19: =SUM(I4:I18) -> 214.642 | J19: =SUM(J4:J18) -> 243.43696 | K19: =SUM(K4:K18) -> 283.23654
A20: Change in operating assets and liabilities
B21: (Increase)/Decrease in trade receivables | E21: -2.175 | F21: -3.207 | G21: 0.419 | H21: 1.808 | I21: 0.684 | J21: ='Balance sheet'!I26-'Balance sheet'!J26 -> -2.8344654 | K21: ='Balance sheet'!J26-'Balance sheet'!K26 -> -0.80124185
B22: (Increase)/Decrease in inventories | E22: -48.892 | F22: 14.458 | G22: 5.114 | H22: 23.892 | I22: -24.424 | J22: ='Balance sheet'!I23-'Balance sheet'!J23 -> -22.794851 | K22: ='Balance sheet'!J23-'Balance sheet'!K23 -> -8.3832083
B23: Increase in loans and other financial assets | E23: -0.047 | F23: -0.609 | G23: -0.651 | H23: -0.119 | I23: -5.312 | J23: =('Balance sheet'!I29-'Balance sheet'!J29)+('Balance sheet'!I30-'Balance sheet'!J30)+('Balance sheet'!I16-'Balance sheet'!J16) -> -2.5039453 | K23: =('Balance sheet'!J29-'Balance sheet'!K29)+('Balance sheet'!J30-'Balance sheet'!K30)+('Balance sheet'!J16-'Balance sheet'!K16) -> 0.76283172
B24: (Increase)/Decrease in other current and non-current assets | E24: 22.435 | F24: -10.269 | G24: 9.813 | H24: 1.037 | I24: 1.076 | J24: =('Balance sheet'!I19-'Balance sheet'!J19)+('Balance sheet'!I31-'Balance sheet'!J31) -> 24.313968 | K24: =('Balance sheet'!J19-'Balance sheet'!K19)+('Balance sheet'!J31-'Balance sheet'!K31) -> 0.91609964
B25: Increase/(Decrease) in trade payables and other financial liabilities | E25: 16.948 | F25: 14.025 | G25: 15.803 | H25: 14.485 | I25: 13.539 | J25: =('Balance sheet'!J56-'Balance sheet'!I56)+('Balance sheet'!J57-'Balance sheet'!I57) -> 21.085114 | K25: =('Balance sheet'!K56-'Balance sheet'!J56)+('Balance sheet'!K57-'Balance sheet'!J57) -> 11.450667
B26: Increase/ (decrease) in employee benefits obligation | E26: 1.138 | F26: -0.788 | G26: 2.665 | H26: 8.171 | I26: 4.176 | J26: =('Balance sheet'!J60-'Balance sheet'!I60)+('Balance sheet'!J47-'Balance sheet'!I47) -> 2.4077352 | K26: =('Balance sheet'!K60-'Balance sheet'!J60)+('Balance sheet'!K47-'Balance sheet'!J47) -> 3.8302551
B27: Increase/ (decrease) in other current and non-current liabilities | E27: 0.217 | F27: 0.929 | G27: -0.653 | H27: 1.217 | I27: 6.701 | J27: ='Balance sheet'!J58-'Balance sheet'!I58 -> -5.0412028 | K27: ='Balance sheet'!K58-'Balance sheet'!J58 -> 0.26069646
B28: Cash generated from operations | E28: =SUM(E19:E27) -> 104.425 | F28: =SUM(F19:F27) -> 154.134 | G28: =SUM(G19:G27) -> 177.103 | H28: =SUM(H19:H27) -> 295.986 | I28: =SUM(I19:I27) -> 211.082 | J28: =SUM(J19:J27) -> 258.06931 | K28: =SUM(K19:K27) -> 291.27264
B29: Income taxes paid, net | E29: -16.974 | F29: -18.54 | G29: -11.522 | H29: -50.924 | I29: -39.946 | J29: =-'Income Statement'!J23 -> -59.21693 | K29: =-'Income Statement'!K23 -> -72.3031
A30: Net cash generated from operating activities | E30: =E28+E29 -> 87.451 | F30: =F28+F29 -> 135.594 | G30: =G28+G29 -> 165.581 | H30: =H28+H29 -> 245.062 | I30: =I28+I29 -> 171.136 | J30: =J28+J29 -> 198.85238 | K30: =K28+K29 -> 218.96954
A32: Cash flows from investing activities
B33: Acquisition of property, plant and equipment and intangible assets | E33: -71.733 | F33: -97.449 | G33: -95.304 | H33: -57.346 | I33: -71.752 | J33: =('Asset Schedule'!I7-'Asset Schedule'!J7)+('Balance sheet'!I9-'Balance sheet'!J9)+('Balance sheet'!I11-'Balance sheet'!J11)+('Balance sheet'!I12-'Balance sheet'!J12) -> -65.503889 | K33: =('Asset Schedule'!J7-'Asset Schedule'!K7)+('Balance sheet'!J9-'Balance sheet'!K9)+('Balance sheet'!J11-'Balance sheet'!K11)+('Balance sheet'!J12-'Balance sheet'!K12) -> -53.293573
B34: Proceeds from sale of property, plant and equipment | E34: 0.414 | F34: 0.429 | G34: 0.288 | H34: 1.108 | I34: 0.285 | J34: 0 | K34: 0
B35: Proceeds from sale of biological assets | E35: 0.171 | F35: 0.337 | G35: 0.22 | H35: 0.338 | I35: 1.058 | J35: 0 | K35: 0
B36: Purchase of assets and liabilities in slump sale agreement | E36: 0 | F36: -96.132 | G36: 0 | H36: 0 | I36: 0 | J36: 0 | K36: 0
B37: Purchase of investments | E37: -44.557 | F37: -143.129 | G37: -74 | H37: -55 | I37: -549.304 | J37: 0 | K37: ='Balance sheet'!J25-'Balance sheet'!K25 -> 0
B38: Advance paid for acquisition of business | E38: 0 | F38: 0 | G38: 0 | H38: 0 | I38: -30 | J38: 0 | K38: 0
B39: Proceeds from sale of investments | E39: 49.285 | F39: 187.806 | G39: 91.481 | H39: 6.836 | I39: 429.552 | J39: ='Balance sheet'!I25-'Balance sheet'!J25 -> 0 | K39: 0
B40: Interest received | E40: 0.307 | F40: 0.422 | G40: 0.279 | H40: 3.339 | I40: 4.437 | J40: 0 | K40: 0
B41: Dividend received | E41: 0.39 | F41: 0 | G41: 0 | H41: 0 | I41: 0 | J41: 0 | K41: 0
...

Sheet Asset Schedule
A1: Asset Schedule
A2: (All numbers in Rs Crs unless specified) | E2: FY18 A | F2: FY19 A | G2: FY20 A | H2: FY21 A | I2: FY22 A | J2: FY23 E | K2: FY24 E
A4: Opening Gross Block | E4: 271.757 | F4: 372.048 | G4: 516.985 | H4: 601.558 | I4: 660.068 | J4: =I7 -> 727.646 | K4: =J7 -> 787.646
B5: Add : Capex | E5: =E7-E4 -> 100.291 | F5: =F7-F4 -> 158.486 | G5: =G7-G4 -> 84.573 | H5: =H7-H4 -> 58.51 | I5: =I7-I4 -> 67.578 | J5: 60 | K5: 55 | O5: 10
B6: Less : Disposal of assets | E6: 0 | F6: 0 | G6: 0 | H6: 0 | I6: 0 | J6: 0 | K6: 0
A7: Closing Gross Block | E7: 372.048 | F7: 530.534 | G7: 601.558 | H7: 660.068 | I7: 727.646 | J7: =J4+J5-J6 -> 787.646 | K7: =K4+K5-K6 -> 842.646
A9: Accumulated Depriciation
B10: Opening Balance | E10: 18.757 | F10: 45.86 | G10: 76.794 | H10: 119.296 | I10: 164.493 | J10: =I13 -> 212.447 | K10: =J13 -> 268.41512
B11: Add:Current Year Depriciation | E11: 27.679 | F11: 34.724 | G11: 45.393 | H11: 46.967 | I11: 50.081 | J11: =J7*J17 -> 55.968116 | K11: =K7*K17 -> 59.31358
B12: Less: Depriciation Non Expense | E12: =E10+E11-E13 -> 0.576 | F12: =F10+F11-F13 -> 1.216 | G12: =G10+G11-G13 -> 2.891 | H12: =H10+H11-H13 -> 1.77 | I12: =I10+I11-I13 -> 2.127 | J12: 0 | K12: 0
B13: Closing Balance | E13: 45.86 | F13: 79.368 | G13: 119.296 | H13: 164.493 | I13: 212.447 | J13: =J10+J11-J12 -> 268.41512 | K13: =K10+K11-K12 -> 327.7287
B15: Net Block | E15: =E7-E13 -> 326.188 | F15: =F7-F13 -> 451.166 | G15: =G7-G13 -> 482.262 | H15: =H7-H13 -> 495.575 | I15: =I7-I13 -> 515.199 | J15: =J7-J13 -> 519.23088 | K15: =K7-K13 -> 514.9173
B17: Proportion | E17: =E11/E7 -> 0.074396314 | F17: =F11/F7 -> 0.065451036 | G17: =G11/G7 -> 0.075459058 | H17: =H11/H7 -> 0.07115479 | I17: =I11/I7 -> 0.06882605 | J17: =AVERAGE(E17:I17) -> 0.07105745 | K17: =AVERAGE(F17:J17) -> 0.070389677
B18: Net Block YOY% | F18: =F15/E15-1 -> 0.38314714 | G18: =G15/F15-1 -> 0.068923633 | H18: =H15/G15-1 -> 0.027605327 | I18: =I15/H15-1 -> 0.039598446 | J18: =J15/I15-1 -> 0.0078258769 | K18: =K15/J15-1 -> -0.0083076329

Sheet Ratio analysis
A1: Ratio analysis
B2: Particulars | E2: FY18 A | F2: FY19 A | G2: FY20 A | H2: FY21 A | I2: FY22 A | J2: FY23 E | K2: FY24 E
A4: Profitability ratios
B5: EBITDA | E5: ='Income Statement'!E5-('Income Statement'!E16-'Income Statement'!E13-'Income Statement'!E14) -> 112.719 | F5: ='Income Statement'!F5-('Income Statement'!F16-'Income Statement'!F13-'Income Statement'!F14) -> 134.152 | G5: ='Income Statement'!G5-('Income Statement'!G16-'Income Statement'!G13-'Income Statement'!G14) -> 140.926 | H5: ='Income Statement'!H5-('Income Statement'!H16-'Income Statement'!H13-'Income Statement'!H14) -> 242.467 | I5: ='Income Statement'!I5-('Income Statement'!I16-'Income Statement'!I13-'Income Statement'!I14) -> 210.728 | J5: ='Income Statement'!J5-('Income Statement'!J16-'Income Statement'!J13-'Income Statement'!J14) -> 232.61901 | K5: ='Income Statement'!K5-('Income Statement'!K16-'Income Statement'!K13-'Income Statement'!K14) -> 271.28139
B6: EBITDA margin | E6: =E5/'Income Statement'!E5 -> 0.070871281 | F6: =F5/'Income Statement'!F5 -> 0.079301378 | G6: =G5/'Income Statement'!G5 -> 0.065872571 | H6: =H5/'Income Statement'!H5 -> 0.12472544 | I6: =I5/'Income Statement'!I5 -> 0.093934476 | J6: =J5/'Income Statement'!J5 -> 0.090958466 | K6: =K5/'Income Statement'!K5 -> 0.093872738
B7: EBITDA 4 years %CAGR | I7: =(I5/E5)^(1/4)-1 -> 0.16931435
B9: PAT margin | E9: ='Income Statement'!E25/'Income Statement'!E7 -> 0.035600211 | F9: ='Income Statement'!F25/'Income Statement'!F7 -> 0.036930576 | G9: ='Income Statement'!G25/'Income Statement'!G7 -> 0.023242851 | H9: ='Income Statement'!H25/'Income Statement'!H7 -> 0.064587612 | I9: ='Income Statement'!I25/'Income Statement'!I7 -> 0.058843519 | J9: ='Income Statement'!J25/'Income Statement'!J7 -> 0.044460872 | K9: ='Income Statement'!K25/'Income Statement'!K7 -> 0.04677222
B10: PAT 4 years %CAGR | I10: =('Income Statement'!I18/'Income Statement'!E18)^(1/4)-1 -> 0.19776285
B12: Return on equity | F12: ='Income Statement'!F25/AVERAGE('Balance sheet'!E40:F40) -> 0.16828416 | G12: ='Income Statement'!G25/AVERAGE('Balance sheet'!F40:G40) -> 0.118759 | H12: ='Income Statement'!H25/AVERAGE('Balance sheet'!G40:H40) -> 0.23082716 | I12: ='Income Statement'!I25/AVERAGE('Balance sheet'!H40:I40) -> 0.17695058
B14: NP margin | E14: ='Income Statement'!E25/'Income Statement'!E7 -> 0.035600211 | F14: ='Income Statement'!F25/'Income Statement'!F7 -> 0.036930576 | G14: ='Income Statement'!G25/'Income Statement'!G7 -> 0.023242851 | H14: ='Income Statement'!H25/'Income Statement'!H7 -> 0.064587612 | I14: ='Income Statement'!I25/'Income Statement'!I7 -> 0.058843519
B15: Asset turnover | F15: ='Income Statement'!F7/AVERAGE('Balance sheet'!E34,'Balance sheet'!F34) -> 2.4975791 | G15: ='Income Statement'!G7/AVERAGE('Balance sheet'!F34,'Balance sheet'!G34) -> 2.7646037 | H15: ='Income Statement'!H7/AVERAGE('Balance sheet'!G34,'Balance sheet'!H34) -> 2.2006383 | I15: ='Income Statement'!I7/AVERAGE('Balance sheet'!H34,'Balance sheet'!I34) -> 2.1905872
B16: Financial leverage | F16: =AVERAGE('Balance sheet'!E34:F34)/AVERAGE('Balance sheet'!E40:F40) -> 1.824475 | G16: =AVERAGE('Balance sheet'!F34:G34)/AVERAGE('Balance sheet'!F40:G40) -> 1.8481799 | H16: =AVERAGE('Balance sheet'!G34:H34)/AVERAGE('Balance sheet'!G40:H40) -> 1.6240112 | I16: =AVERAGE('Balance sheet'!H34:I34)/AVERAGE('Balance sheet'!H40:I40) -> 1.3727543
B17: DuPont ROE | F17: =F14*F15*F16 -> 0.16828416 | G17: =G14*G15*G16 -> 0.118759 | H17: =H14*H15*H16 -> 0.23082716 | I17: =I14*I15*I16 -> 0.17695058
F18: =F17=F12 -> TRUE | G18: =G17=G12 -> TRUE | H18: =H17=H12 -> TRUE | I18: =I17=I12 -> TRUE
B20: Return on assets | F20: =('Income Statement'!F25+'Income Statement'!F13*(1-0.32))/AVERAGE('Balance sheet'!E34:F34) -> 0.10379452 | G20: =('Income Statement'!G25+'Income Statement'!G13*(1-0.32))/AVERAGE('Balance sheet'!F34:G34) -> 0.078397608 | H20: =('Income Statement'!H25+'Income Statement'!H13*(1-0.32))/AVERAGE('Balance sheet'!G34:H34) -> 0.15125817 | I20: =('Income Statement'!I25+'Income Statement'!I13*(1-0.32))/AVERAGE('Balance sheet'!H34:I34) -> 0.13320358
B21: Return on capital employed | F21: =('Income Statement'!F18+'Income Statement'!F13)/('Balance sheet'!F40+'Balance sheet'!F45+'Balance sheet'!F54) -> 0.19133137 | G21: =('Income Statement'!G18+'Income Statement'!G13)/('Balance sheet'!G40+'Balance sheet'!G45+'Balance sheet'!G54) -> 0.17494881 | H21: =('Income Statement'!H18+'Income Statement'!H13)/('Balance sheet'!H40+'Balance sheet'!H45+'Balance sheet'!H54) -> 0.2786576 | I21: =('Income Statement'!I18+'Income Statement'!I13)/('Balance sheet'!I40+'Balance sheet'!I45+'Balance sheet'!I54) -> 0.20408676
A23: Leverage ratios
B24: Interest Coverage ratio | E24: =(E5-'Income Statement'!E14)/'Income Statement'!E13 -> 7.7862259 | F24: =(F5-'Income Statement'!F14)/'Income Statement'!F13 -> 8.3924773 | G24: =(G5-'Income Statement'!G14)/'Income Statement'!G13 -> 5.6839953 | H24: =(H5-'Income Statement'!H14)/'Income Statement'!H13 -> 16.123444 | I24: =(I5-'Income Statement'!I14)/'Income Statement'!I13 -> 24.298098
B25: Debt to Equity | E25: =('Balance sheet'!E45+'Balance sheet'!E54)/'Balance sheet'!E40 -> 0.3433049 | F25: =('Balance sheet'!F45+'Balance sheet'!F54)/'Balance sheet'!F40 -> 0.34845573 | G25: =('Balance sheet'!G45+'Balance sheet'!G54)/'Balance sheet'!G40 -> 0.29233257 | H25: =('Balance sheet'!H45+'Balance sheet'!H54)/'Balance sheet'!H40 -> 0.080500631 | I25: =('Balance sheet'!I45+'Balance sheet'!I54)/'Balance sheet'!I40 -> 0
B26: Debt to Asset | E26: =('Balance sheet'!E45+'Balance sheet'!E54)/'Balance sheet'!E34 -> 0.19141197 | F26: =('Balance sheet'!F45+'Balance sheet'!F54)/'Balance sheet'!F34 -> 0.18832165 | G26: =('Balance sheet'!G45+'Balance sheet'!G54)/'Balance sheet'!G34 -> 0.15834529 | H26: =('Balance sheet'!H45+'Balance sheet'!H54)/'Balance sheet'!H34 -> 0.054479066 | I26: =('Balance sheet'!I45+'Balance sheet'!I54)/'Balance sheet'!I34 -> 0
A28: Activity ratios
B29: Fixed Assets | E29: =SUM('Balance sheet'!E6:E12)-'Balance sheet'!E8 -> 345.69 | F29: =SUM('Balance sheet'!F6:F12)-'Balance sheet'!F8 -> 478.455 | G29: =SUM('Balance sheet'!G6:G12)-'Balance sheet'!G8 -> 505.916 | H29: =SUM('Balance sheet'!H6:H12)-'Balance sheet'!H8 -> 513.056 | I29: =SUM('Balance sheet'!I6:I12)-'Balance sheet'!I8 -> 525.804
B30: Fixed Assets Turnover Ratio | F30: ='Income Statement'!F5/AVERAGE('Ratio analysis'!E29:F29) -> 4.10528 | G30: ='Income Statement'!G5/AVERAGE('Ratio analysis'!F29:G29) -> 4.3466803 | H30: ='Income Statement'!H5/AVERAGE('Ratio analysis'!G29:H29) -> 3.815622 | I30: ='Income Statement'!I5/AVERAGE('Ratio analysis'!H29:I29) -> 4.3188707
B31: Working Capital Turnover Ratio | F31: ='Income Statement'!F5/AVERAGE('Balance sheet'!F32-'Balance sheet'!F62,'Balance sheet'!E32-'Balance sheet'!E62) -> 113.81391 | G31: ='Income Statement'!G5/AVERAGE('Balance sheet'!G32-'Balance sheet'!G62,'Balance sheet'!F32-'Balance sheet'!F62) -> 340.80016 | H31: ='Income Statement'!H5/AVERAGE('Balance sheet'!H32-'Balance sheet'!H62,'Balance sheet'!G32-'Balance sheet'!G62) -> 18.870913 | I31: ='Income Statement'!I5/AVERAGE('Balance sheet'!I32-'Balance sheet'!I62,'Balance sheet'!H32-'Balance sheet'!H62) -> 10.614815
B32: Working capital days | F32: =365/F31 -> 3.2069895 | G32: =365/G31 -> 1.0710089 | H32: =365/H31 -> 19.341936 | I32: =365/I31 -> 34.385902
B33: Cost of goods sold | E33: ='Income Statement'!E10+37.542+18.111+2.947+42.772 -> 1375.798 | F33: ='Income Statement'!F10+30.486+20.227+1.449+50.423 -> 1345.1 | G33: ='Income Statement'!G10+27.908+13.476+1.096+39.789 -> 1665.346 | H33: ='Income Statement'!H10+36.138+19.22+1.608 -> 1423.166 | I33: ='Income Statement'!I10+40.631+24.492+2.06 -> 1694.557
B34: Inventory Turnover Ratio | F34: =F33/AVERAGE('Balance sheet'!E23:F23) -> 10.38944 | G34: =G33/AVERAGE('Balance sheet'!F23:G23) -> 13.593385 | H34: =H33/AVERAGE('Balance sheet'!G23:H23) -> 13.156632 | I34: =I33/AVERAGE('Balance sheet'!H23:I23) -> 15.606745
B35: Inventory Number of Days | F35: =365/F34 -> 35.131827 | G35: =365/G34 -> 26.851295 | H35: =365/H34 -> 27.742663 | I35: =365/I34 -> 23.387323
B36: Receivable Turnover Ratio | F36: ='Income Statement'!F5/AVERAGE('Balance sheet'!E26:F26) -> 309.6034 | G36: ='Income Statement'!G5/AVERAGE('Balance sheet'!F26:G26) -> 294.55776 | H36: ='Income Statement'!H5/AVERAGE('Balance sheet'!G26:H26) -> 321.56248 | I36: ='Income Statement'!I5/AVERAGE('Balance sheet'!H26:I26) -> 464.79872
B37: Days Sales Outstanding (DSO) | F37: =365/F36 -> 1.1789276 | G37: =365/G36 -> 1.2391458 | H37: =365/H36 -> 1.1350827 | I37: =365/I36 -> 0.78528616

Sheet P&L Vertical analysis 
A1: Profit & Loss statement
A2: (All numbers in Rs Crs unless specified) | E2: FY18 A | F2: FY19 A | G2: FY20 A | H2: FY21 A | I2: FY22 A | J2: FY23 E | K2: FY24 E
A4: Income :
B5: Revenue from operations | E5: ='Income Statement'!E5/'Income Statement'!E$7 -> 0.99590611 | F5: ='Income Statement'!F5/'Income Statement'!F$7 -> 0.99541854 | G5: ='Income Statement'!G5/'Income Statement'!G$7 -> 0.99707501 | H5: ='Income Statement'!H5/'Income Statement'!H$7 -> 0.99673499 | I5: ='Income Statement'!I5/'Income Statement'!I$7 -> 0.99392881 | J5: ='Income Statement'!J5/'Income Statement'!J$7 -> 0.99578779 | K5: ='Income Statement'!K5/'Income Statement'!K$7 -> 0.99588015
B6: other income | E6: ='Income Statement'!E6/'Income Statement'!E$7 -> 0.0040938928 | F6: ='Income Statement'!F6/'Income Statement'!F$7 -> 0.004581458 | G6: ='Income Statement'!G6/'Income Statement'!G$7 -> 0.0029249891 | H6: ='Income Statement'!H6/'Income Statement'!H$7 -> 0.0032650148 | I6: ='Income Statement'!I6/'Income Statement'!I$7 -> 0.0060711884 | J6: ='Income Statement'!J6/'Income Statement'!J$7 -> 0.0042122065 | K6: ='Income Statement'!K6/'Income Statement'!K$7 -> 0.0041198509
B7: Total income | E7: ='Income Statement'!E7/'Income Statement'!E$7 -> 1 | F7: ='Income Statement'!F7/'Income Statement'!F$7 -> 1 | G7: ='Income Statement'!G7/'Income Statement'!G$7 -> 1 | H7: ='Income Statement'!H7/'Income Statement'!H$7 -> 1 | I7: ='Income Statement'!I7/'Income Statement'!I$7 -> 1 | J7: =SUM(J5:J6) -> 1 | K7: =SUM(K5:K6) -> 1
A9: Expenses :
B10: Cost of materials consumed | E10: ='Income Statement'!E10/'Income Statement'!E$7 -> 0.79800603 | F10: ='Income Statement'!F10/'Income Statement'!F$7 -> 0.73112385 | G10: ='Income Statement'!G10/'Income Statement'!G$7 -> 0.737808 | H10: ='Income Statement'!H10/'Income Statement'!H$7 -> 0.70048104 | I10: ='Income Statement'!I10/'Income Statement'!I$7 -> 0.72101687 | J10: ='Income Statement'!J10/'Income Statement'!J$7 -> 0.72260783 | K10: ='Income Statement'!K10/'Income Statement'!K$7 -> 0.72047784
B11: Changes in inventories of finished goods, stock in trade and WIP | E11: ='Income Statement'!E11/'Income Statement'!E$7 -> -0.026751191 | F11: ='Income Statement'!F11/'Income Statement'!F$7 -> 0.008281459 | G11: ='Income Statement'!G11/'Income Statement'!G$7 -> 0.026798885 | H11: ='Income Statement'!H11/'Income Statement'!H$7 -> -0.0078282422 | I11: ='Income Statement'!I11/'Income Statement'!I$7 -> -0.00053388178 | J11: ='Income Statement'!J11/'Income Statement'!J$7 -> 0.0066732838 | K11: ='Income Statement'!K11/'Income Statement'!K$7 -> 0.0062710535
B12: Employee benefits expense | E12: ='Income Statement'!E12/'Income Statement'!E$7 -> 0.040687834 | F12: ='Income Statement'!F12/'Income Statement'!F$7 -> 0.045109061 | G12: ='Income Statement'!G12/'Income Statement'!G$7 -> 0.042465007 | H12: ='Income Statement'!H12/'Income Statement'!H$7 -> 0.046041939 | I12: ='Income Statement'!I12/'Income Statement'!I$7 -> 0.045375964 | J12: ='Income Statement'!J12/'Income Statement'!J$7 -> 0.044748749 | K12: ='Income Statement'!K12/'Income Statement'!K$7 -> 0.044658629
B13: Finance costs | E13: ='Income Statement'!E13/'Income Statement'!E$7 -> 0.0068189802 | F13: ='Income Statement'!F13/'Income Statement'!F$7 -> 0.0068051068 | G13: ='Income Statement'!G13/'Income Statement'!G$7 -> 0.0075217335 | H13: ='Income Statement'!H13/'Income Statement'!H$7 -> 0.0060972921 | I13: ='Income Statement'!I13/'Income Statement'!I$7 -> 0.0028878352 | J13: ='Income Statement'!J13/'Income Statement'!J$7 -> 0.0054768329 | K13: ='Income Statement'!K13/'Income Statement'!K$7 -> 0.0054773408
B14: Depreciation and amortization expense | E14: ='Income Statement'!E14/'Income Statement'!E$7 -> 0.017487021 | F14: ='Income Statement'!F14/'Income Statement'!F$7 -> 0.021826358 | G14: ='Income Statement'!G14/'Income Statement'!G$7 -> 0.022926397 | H14: ='Income Statement'!H14/'Income Statement'!H$7 -> 0.026008858 | I14: ='Income Statement'!I14/'Income Statement'!I$7 -> 0.02319528 | J14: ='Income Statement'!J14/'Income Statement'!J$7 -> 0.021792417 | K14: ='Income Statement'!K14/'Income Statement'!K$7 -> 0.02043999
B15: Other expenses | E15: ='Income Statement'!E15/'Income Statement'!E$7 -> 0.1133823 | F15: ='Income Statement'!F15/'Income Statement'!F$7 -> 0.13196611 | G15: ='Income Statement'!G15/'Income Statement'!G$7 -> 0.12432322 | H15: ='Income Statement'!H15/'Income Statement'!H$7 -> 0.13372205 | I15: ='Income Statement'!I15/'Income Statement'!I$7 -> 0.13470568 | J15: ='Income Statement'!J15/'Income Statement'!J$7 -> 0.1311826 | K15: ='Income Statement'!K15/'Income Statement'!K$7 -> 0.13098663
B16: Total Expenses | E16: ='Income Statement'!E16/'Income Statement'!E$7 -> 0.94963097 | F16: ='Income Statement'!F16/'Income Statement'!F$7 -> 0.94511194 | G16: ='Income Statement'!G16/'Income Statement'!G$7 -> 0.96184325 | H16: ='Income Statement'!H16/'Income Statement'!H$7 -> 0.90452293 | I16: ='Income Statement'!I16/'Income Statement'!I$7 -> 0.92664775 | J16: =SUM(J10:J15) -> 0.93248171 | K16: =SUM(K10:K15) -> 0.92831148
B18: Profit before tax | E18: ='Income Statement'!E18/'Income Statement'!E$7 -> 0.050369033 | F18: ='Income Statement'!F18/'Income Statement'!F$7 -> 0.054888056 | G18: ='Income Statement'!G18/'Income Statement'!G$7 -> 0.038156754 | H18: ='Income Statement'!H18/'Income Statement'!H$7 -> 0.095477073 | I18: ='Income Statement'!I18/'Income Statement'!I$7 -> 0.073352255 | J18: =J7-J16 -> 0.067518286 | K18: =K7-K16 -> 0.071688516
A20: Tax expenses
B21: Current tax | E21: ='Income Statement'!E21/'Income Statement'!E$7 -> 0.011649248 | F21: ='Income Statement'!F21/'Income Statement'!F$7 -> 0.014013283 | G21: ='Income Statement'!G21/'Income Statement'!G$7 -> 0.0098501665 | H21: ='Income Statement'!H21/'Income Statement'!H$7 -> 0.02641801 | I21: ='Income Statement'!I21/'Income Statement'!I$7 -> 0.019255631 | J21: ='Income Statement'!J21/'Income Statement'!J$7 -> 0.017768458 | K21: ='Income Statement'!K21/'Income Statement'!K$7 -> 0.019006758
B22: Deferred tax | E22: ='Income Statement'!E22/'Income Statement'!E$7 -> 0.0031195739 | F22: ='Income Statement'!F22/'Income Statement'!F$7 -> 0.0039441964 | G22: ='Income Statement'!G22/'Income Statement'!G$7 -> 0.005063736 | H22: ='Income Statement'!H22/'Income Statement'!H$7 -> 0.0044714501 | I22: ='Income Statement'!I22/'Income Statement'!I$7 -> -0.0047468957 | J22: ='Income Statement'!J22/'Income Statement'!J$7 -> 0.0052889566 | K22: ='Income Statement'!K22/'Income Statement'!K$7 -> 0.0059095369
B23: Total Tax expenses | E23: ='Income Statement'!E23/'Income Statement'!E$7 -> 0.014768822 | F23: ='Income Statement'!F23/'Income Statement'!F$7 -> 0.017957479 | G23: ='Income Statement'!G23/'Income Statement'!G$7 -> 0.014913903 | H23: ='Income Statement'!H23/'Income Statement'!H$7 -> 0.03088946 | I23: ='Income Statement'!I23/'Income Statement'!I$7 -> 0.014508736 | J23: =SUM(J21:J22) -> 0.023057415 | K23: =SUM(K21:K22) -> 0.024916295
B25: Profit for the year | E25: ='Income Statement'!E25/'Income Statement'!E$7 -> 0.035600211 | F25: ='Income Statement'!F25/'Income Statement'!F$7 -> 0.036930576 | G25: ='Income Statement'!G25/'Income Statement'!G$7 -> 0.023242851 | H25: ='Income Statement'!H25/'Income Statement'!H$7 -> 0.064587612 | I25: ='Income Statement'!I25/'Income Statement'!I$7 -> 0.058843519 | J25: =J18-J23 -> 0.044460872 | K25: =K18-K23 -> 0.04677222

Sheet BS Vertical analysis
A1: Balance Sheet
A2: (All numbers in Rs Crs unless specified) | E2: FY18 A | F2: FY19 A | G2: FY20 A | H2: FY21 A | I2: FY22 A | J2: FY23 E | K2: FY24 E
A4: Assets
A5: Non current assets
B6: Property, Plant and Equipment | E6: ='Balance sheet'!E6/'Balance sheet'!E$34 -> 0.53564414 | F6: ='Balance sheet'!F6/'Balance sheet'!F$34 -> 0.60001782 | G6: ='Balance sheet'!G6/'Balance sheet'!G$34 -> 0.6025955 | H6: ='Balance sheet'!H6/'Balance sheet'!H$34 -> 0.50972234 | I6: ='Balance sheet'!I6/'Balance sheet'!I$34 -> 0.4733375 | J6: ='Balance sheet'!J6/'Balance sheet'!J$34 -> 0.42522379 | K6: ='Balance sheet'!K6/'Balance sheet'!K$34 -> 0.37521012
B7: Capital work in progress | E7: ='Balance sheet'!E7/'Balance sheet'!E$34 -> 0.026343101 | F7: ='Balance sheet'!F7/'Balance sheet'!F$34 -> 0.01492178 | G7: ='Balance sheet'!G7/'Balance sheet'!G$34 -> 0.014049591 | H7: ='Balance sheet'!H7/'Balance sheet'!H$34 -> 0.0085194575 | I7: ='Balance sheet'!I7/'Balance sheet'!I$34 -> 0.0037631875 | J7: ='Balance sheet'!J7/'Balance sheet'!J$34 -> 0.0033544165 | K7: ='Balance sheet'!K7/'Balance sheet'!K$34 -> 0.0029846747
B8: Goodwill | E8: ='Balance sheet'!E8/'Balance sheet'!E$34 -> 0 | F8: ='Balance sheet'!F8/'Balance sheet'!F$34 -> 0.047793585 | G8: ='Balance sheet'!G8/'Balance sheet'!G$34 -> 0.055191251 | H8: ='Balance sheet'!H8/'Balance sheet'!H$34 -> 0.045430936 | I8: ='Balance sheet'!I8/'Balance sheet'!I$34 -> 0.040581052 | J8: ='Balance sheet'!J8/'Balance sheet'!J$34 -> 0.036172992 | K8: ='Balance sheet'!K8/'Balance sheet'!K$34 -> 0.032185811
B9: Other intangible assets | E9: ='Balance sheet'!E9/'Balance sheet'!E$34 -> 0.00108545 | F9: ='Balance sheet'!F9/'Balance sheet'!F$34 -> 0.017779793 | G9: ='Balance sheet'!G9/'Balance sheet'!G$34 -> 0.012327754 | H9: ='Balance sheet'!H9/'Balance sheet'!H$34 -> 0.0066865862 | I9: ='Balance sheet'!I9/'Balance sheet'!I$34 -> 0.0039625555 | J9: ='Balance sheet'!J9/'Balance sheet'!J$34 -> 0.0076093251 | K9: ='Balance sheet'!K9/'Balance sheet'!K$34 -> 0.0056133543
B10: Biological Assets other than bearer plants
C11: Matured biological assets | E11: ='Balance sheet'!E11/'Balance sheet'!E$34 -> 0.0033400989 | F11: ='Balance sheet'!F11/'Balance sheet'!F$34 -> 0.0027396495 | G11: ='Balance sheet'!G11/'Balance sheet'!G$34 -> 0.0024877922 | H11: ='Balance sheet'!H11/'Balance sheet'!H$34 -> 0.0019182408 | I11: ='Balance sheet'!I11/'Balance sheet'!I$34 -> 0.0014718326 | J11: ='Balance sheet'!J11/'Balance sheet'!J$34 -> 0.001654885 | K11: ='Balance sheet'!K11/'Balance sheet'!K$34 -> 0.0013970051
C12: Immatured biological assets | E12: ='Balance sheet'!E12/'Balance sheet'!E$34 -> 0.0012562319 | F12: ='Balance sheet'!F12/'Balance sheet'!F$34 -> 0.00085115325 | G12: ='Balance sheet'!G12/'Balance sheet'!G$34 -> 0.00069098397 | H12: ='Balance sheet'!H12/'Balance sheet'!H$34 -> 0.00085575138 | I12: ='Balance sheet'!I12/'Balance sheet'!I$34 -> 0.00054573568 | J12: ='Balance sheet'!J12/'Balance sheet'!J$34 -> 0.0005737371 | K12: ='Balance sheet'!K12/'Balance sheet'!K$34 -> 0.00049975635
B13: Financial assets
C14: Investments | E14: ='Balance sheet'!E14/'Balance sheet'!E$34 -> 0.011675567 | F14: ='Balance sheet'!F14/'Balance sheet'!F$34 -> 0.010457216 | G14: ='Balance sheet'!G14/'Balance sheet'!G$34 -> 0.00042733548 | H14: ='Balance sheet'!H14/'Balance sheet'!H$34 -> 0 | I14: ='Balance sheet'!I14/'Balance sheet'!I$34 -> 0.05130926 | J14: ='Balance sheet'!J14/'Balance sheet'!J$34 -> 0.045735864 | K14: ='Balance sheet'!K14/'Balance sheet'!K$34 -> 0.040694611
C15: Loans | E15: ='Balance sheet'!E15/'Balance sheet'!E$34 -> 0.014810399 | F15: ='Balance sheet'!F15/'Balance sheet'!F$34 -> 0 | G15: ='Balance sheet'!G15/'Balance sheet'!G$34 -> 0 | H15: ='Balance sheet'!H15/'Balance sheet'!H$34 -> 0 | I15: ='Balance sheet'!I15/'Balance sheet'!I$34 -> 0 | J15: ='Balance sheet'!J15/'Balance sheet'!J$34 -> 0 | K15: ='Balance sheet'!K15/'Balance sheet'!K$34 -> 0
C16: Other financial assets | E16: ='Balance sheet'!E16/'Balance sheet'!E$34 -> 0.0095325832 | F16: ='Balance sheet'!F16/'Balance sheet'!F$34 -> 0.011297729 | G16: ='Balance sheet'!G16/'Balance sheet'!G$34 -> 0.011711741 | H16: ='Balance sheet'!H16/'Balance sheet'!H$34 -> 0.010193933 | I16: ='Balance sheet'!I16/'Balance sheet'!I$34 -> 0.011521087 | J16: ='Balance sheet'!J16/'Balance sheet'!J$34 -> 0.010332938 | K16: ='Balance sheet'!K16/'Balance sheet'!K$34 -> 0.010505883
B17: Other tax assets | E17: ='Balance sheet'!E17/'Balance sheet'!E$34 -> 0.0075850132 | F17: ='Balance sheet'!F17/'Balance sheet'!F$34 -> 0.0048515735 | G17: ='Balance sheet'!G17/'Balance sheet'!G$34 -> 0.010943287 | H17: ='Balance sheet'!H17/'Balance sheet'!H$34 -> 0.0020159528 | I17: ='Balance sheet'!I17/'Balance sheet'!I$34 -> 0.0023428047 | J17: ='Balance sheet'!J17/'Balance sheet'!J$34 -> 0.0020883208 | K17: ='Balance sheet'!K17/'Balance sheet'!K$34 -> 0.0018581349
B18: Deferred tax assets | E18: ='Balance sheet'!E18/'Balance sheet'!E$34 -> 0.0030789997 | F18: ='Balance sheet'!F18/'Balance sheet'!F$34 -> 0.00041493721 | G18: ='Balance sheet'!G18/'Balance sheet'!G$34 -> 2.6239898e-05 | H18: ='Balance sheet'!H18/'Balance sheet'!H$34 -> 7.6112503e-05 | I18: ='Balance sheet'!I18/'Balance sheet'!I$34 -> 3.1237396e-05 | J18: ='Balance sheet'!J18/'Balance sheet'!J$34 -> 2.7844278e-05 | K18: ='Balance sheet'!K18/'Balance sheet'!K$34 -> 2.4775132e-05
B19: Other Non current assets | E19: ='Balance sheet'!E19/'Balance sheet'!E$34 -> 0.014105924 | F19: ='Balance sheet'!F19/'Balance sheet'!F$34 -> 0.014847304 | G19: ='Balance sheet'!G19/'Balance sheet'!G$34 -> 0.011041999 | H19: ='Balance sheet'!H19/'Balance sheet'!H$34 -> 0.0011992862 | I19: ='Balance sheet'!I19/'Balance sheet'!I$34 -> 0.040805227 | J19: ='Balance sheet'!J19/'Balance sheet'!J$34 -> 0.013992959 | K19: ='Balance sheet'!K19/'Balance sheet'!K$34 -> 0.013112809
B20: Total Non current assets | E20: ='Balance sheet'!E20/'Balance sheet'!E$34 -> 0.62845751 | F20: ='Balance sheet'!F20/'Balance sheet'!F$34 -> 0.72597254 | G20: ='Balance sheet'!G20/'Balance sheet'!G$34 -> 0.72149348 | H20: ='Balance sheet'!H20/'Balance sheet'!H$34 -> 0.5866186 | I20: ='Balance sheet'!I20/'Balance sheet'!I$34 -> 0.62967148 | J20: ='Balance sheet'!J20/'Balance sheet'!J$34 -> 0.54676707 | K20: ='Balance sheet'!K20/'Balance sheet'!K$34 -> 0.48408693
A22: Current Assets
B23: Inventories | E23: ='Balance sheet'!E23/'Balance sheet'!E$34 -> 0.22018215 | F23: ='Balance sheet'!F23/'Balance sheet'!F$34 -> 0.16604537 | G23: ='Balance sheet'!G23/'Balance sheet'!G$34 -> 0.15015469 | H23: ='Balance sheet'!H23/'Balance sheet'!H$34 -> 0.098917454 | I23: ='Balance sheet'!I23/'Balance sheet'!I$34 -> 0.1111546 | J23: ='Balance sheet'!J23/'Balance sheet'!J$34 -> 0.11774841 | K23: ='Balance sheet'!K23/'Balance sheet'!K$34 -> 0.11087823
B24: Financial assets
C25: Investments | E25: ='Balance sheet'!E25/'Balance sheet'!E$34 -> 0.09828003 | F25: ='Balance sheet'!F25/'Balance sheet'!F$34 -> 0.024118225 | G25: ='Balance sheet'!G25/'Balance sheet'!G$34 -> 0.014396957 | H25: ='Balance sheet'!H25/'Balance sheet'!H$34 -> 0.062153058 | I25: ='Balance sheet'!I25/'Balance sheet'!I$34 -> 0.11806174 | J25: ='Balance sheet'!J25/'Balance sheet'!J$34 -> 0.10523745 | K25: ='Balance sheet'!K25/'Balance sheet'!K$34 -> 0.09363761
C26: Trade receivables | E26: ='Balance sheet'!E26/'Balance sheet'!E$34 -> 0.0059198902 | F26: ='Balance sheet'!F26/'Balance sheet'!F$34 -> 0.009739055 | G26: ='Balance sheet'!G26/'Balance sheet'!G$34 -> 0.0090002849 | H26: ='Balance sheet'!H26/'Balance sheet'!H$34 -> 0.0050275394 | I26: ='Balance sheet'!I26/'Balance sheet'!I$34 -> 0.0043778292 | J26: ='Balance sheet'!J26/'Balance sheet'!J$34 -> 0.0062235772 | K26: ='Balance sheet'!K26/'Balance sheet'!K$34 -> 0.0061214302
C27: Cash and cash equivalents | E27: ='Balance sheet'!E27/'Balance sheet'!E$34 -> 0.022853568 | F27: ='Balance sheet'!F27/'Balance sheet'!F$34 -> 0.028524273 | G27: ='Balance sheet'!G27/'Balance sheet'!G$34 -> 0.085808214 | H27: ='Balance sheet'!H27/'Balance sheet'!H$34 -> 0.12768798 | I27: ='Balance sheet'!I27/'Balance sheet'!I$34 -> 0.10096478 | J27: ='Balance sheet'!J27/'Balance sheet'!J$34 -> 0.18768409 | K27: ='Balance sheet'!K27/'Balance sheet'!K$34 -> 0.27613945
C28: Other Bank balances | E28: ='Balance sheet'!E28/'Balance sheet'!E$34 -> 0.00011494932 | F28: ='Balance sheet'!F28/'Balance sheet'!F$34 -> 0.00010905401 | G28: ='Balance sheet'!G28/'Balance sheet'!G$34 -> 4.2483644e-05 | H28: ='Balance sheet'!H28/'Balance sheet'!H$34 -> 0.10316741 | I28: ='Balance sheet'!I28/'Balance sheet'!I$34 -> 0.020171089 | J28: ='Balance sheet'!J28/'Balance sheet'!J$34 -> 0.017980033 | K28: ='Balance sheet'!K28/'Balance sheet'!K$34 -> 0.015998177
C29: Loans | E29: ='Balance sheet'!E29/'Balance sheet'!E$34 -> 0.011002292 | F29: ='Balance sheet'!F29/'Balance sheet'!F$34 -> 0.020870544 | G29: ='Balance sheet'!G29/'Balance sheet'!G$34 -> 0.0046994407 | H29: ='Balance sheet'!H29/'Balance sheet'!H$34 -> 0.0036420861 | I29: ='Balance sheet'!I29/'Balance sheet'!I$34 -> 0.00043824229 | J29: ='Balance sheet'!J29/'Balance sheet'!J$34 -> 0.0053847112 | K29: ='Balance sheet'!K29/'Balance sheet'!K$34 -> 0.0026764673
